BEGIN:VCALENDAR
VERSION:2.0
PRODID:-//ChamberMaster//Event Calendar 2.0//EN
METHOD:PUBLISH
X-PUBLISHED-TTL:P3D
REFRESH-INTERVAL:P3D
CALSCALE:GREGORIAN
BEGIN:VEVENT
DTSTART:20220712T230000Z
DTEND:20220713T003000Z
X-MICROSOFT-CDO-ALLDAYEVENT:FALSE
SUMMARY:BoCo Business-After-Hours: Hosted by DV8 Distillery
DESCRIPTION:Join us for our next Boulder County Business-After-Hours hosted at DV8 Distillery in Boulder!\n\n\n\nEnjoy good food and drinks while networking with LGBTQ-owned and LGBTQ-friendly businesses as well as professionals in the Boulder County area and beyond!\n\n\n\nDrinks and light appetizers will be provided to attendees.
X-ALT-DESC;FMTTYPE=text/html:Join us for our next Boulder County&nbsp\;Business-After-Hours hosted at DV8 Distillery in Boulder!<br />\n<br />\nEnjoy good food and drinks while networking with LGBTQ-owned and LGBTQ-friendly businesses as well as professionals in the Boulder County area and beyond!<br />\n<br />\nDrinks and light appetizers will be provided to attendees.&nbsp\;
LOCATION:p.p1 {margin: 0.0px 0.0px 2.0px 0.0px\; font: 14.0px 'Helvetica Neue'} p.p2 {margin: 0.0px 0.0px 0.0px 0.0px\; font: 12.0px 'Helvetica Neue'} p.p1 {margin: 0.0px 0.0px 0.0px 0.0px\; font: 12.0px 'Helvetica Neue'} DV8 Distillery (Boulder)
UID:e.2492.5994
SEQUENCE:3
DTSTAMP:20260419T210926Z
URL:https://business.colgbtqcc.org/events/details/boco-business-after-hours-hosted-by-dv8-distillery-5994
END:VEVENT

END:VCALENDAR
