BEGIN:VCALENDAR
VERSION:2.0
PRODID:-//ChamberMaster//Event Calendar 2.0//EN
METHOD:PUBLISH
X-PUBLISHED-TTL:P3D
REFRESH-INTERVAL:P3D
CALSCALE:GREGORIAN
BEGIN:VEVENT
DTSTART:20220614T233000Z
DTEND:20220615T010000Z
X-MICROSOFT-CDO-ALLDAYEVENT:FALSE
SUMMARY:BoCo Business-After-Hours: Hosted by St. Vrain Cidery and Out Boulder County
DESCRIPTION:Join Out Boulder County and the LGBTQ Chamber for our special Pride Month Business-After-Hours hosted at St. Vrain Cidery in Longmont!\n\n\n\nEnjoy good food and drinks while networking with LGBTQ-owned and LGBTQ-friendly businesses as well as professionals in the Boulder County area and beyond!\n\n\n\nDrinks and light appetizers will be provided to attendees. \n\n\n\nThis event is sponsored by our amazing partners and chamber members\, Out Boulder County and St. Vrain Cidery!
X-ALT-DESC;FMTTYPE=text/html:Join Out Boulder County and the LGBTQ Chamber for our special Pride Month Business-After-Hours hosted at St. Vrain Cidery in Longmont!<br />\n<br />\nEnjoy good food and drinks while networking with LGBTQ-owned and LGBTQ-friendly businesses as well as professionals in the Boulder County area and beyond!<br />\n<br />\nDrinks and light appetizers will be provided to attendees.&nbsp\;<br />\n<br />\nThis event is sponsored by our amazing partners and chamber members\, <a href="https://www.outboulder.org/">Out Boulder County</a> and <a href="https://stvraincidery.com/">St. Vrain Cidery</a>!
LOCATION:p.p1 {margin: 0.0px 0.0px 2.0px 0.0px\; font: 14.0px 'Helvetica Neue'} p.p2 {margin: 0.0px 0.0px 0.0px 0.0px\; font: 12.0px 'Helvetica Neue'} p.p1 {margin: 0.0px 0.0px 0.0px 0.0px\; font: 12.0px 'Helvetica Neue'} St. Vrain Cidery (Longmont)
UID:e.2492.5993
SEQUENCE:3
DTSTAMP:20260419T224727Z
URL:https://business.colgbtqcc.org/events/details/boco-business-after-hours-hosted-by-st-vrain-cidery-and-out-boulder-county-5993
END:VEVENT

END:VCALENDAR
