BEGIN:VCALENDAR
VERSION:2.0
PRODID:-//ChamberMaster//Event Calendar 2.0//EN
METHOD:PUBLISH
X-PUBLISHED-TTL:P3D
REFRESH-INTERVAL:P3D
CALSCALE:GREGORIAN
BEGIN:VEVENT
DTSTART:20220809T233000Z
DTEND:20220810T010000Z
X-MICROSOFT-CDO-ALLDAYEVENT:FALSE
SUMMARY:BoCo Business-After-Hours: Hosted by Summit Tacos
DESCRIPTION:Join us for our next Boulder County Business-After-Hours hosted at Summit Tacos in Longmont!\n\n\n\nEnjoy good food and drinks while networking with LGBTQ-owned and LGBTQ-friendly businesses as well as professionals in the Boulder County area and beyond!\n\n\n\nDrinks and light appetizers will be provided to attendees.
X-ALT-DESC;FMTTYPE=text/html:Join us for our next Boulder County&nbsp\;Business-After-Hours hosted at Summit Tacos in Longmont!<br />\n<br />\nEnjoy good food and drinks while networking with LGBTQ-owned and LGBTQ-friendly businesses as well as professionals in the Boulder County area and beyond!<br />\n<br />\nDrinks and light appetizers will be provided to attendees.&nbsp\;
LOCATION:p.p1 {margin: 0.0px 0.0px 2.0px 0.0px\; font: 14.0px 'Helvetica Neue'} p.p2 {margin: 0.0px 0.0px 0.0px 0.0px\; font: 12.0px 'Helvetica Neue'} p.p1 {margin: 0.0px 0.0px 0.0px 0.0px\; font: 12.0px 'Helvetica Neue'} Summit Tacos (Longmont)
UID:e.2492.5995
SEQUENCE:3
DTSTAMP:20260419T180318Z
URL:https://business.colgbtqcc.org/events/details/boco-business-after-hours-hosted-by-summit-tacos-5995
END:VEVENT

END:VCALENDAR
