BEGIN:VCALENDAR
VERSION:2.0
PRODID:-//ChamberMaster//Event Calendar 2.0//EN
METHOD:PUBLISH
X-PUBLISHED-TTL:P3D
REFRESH-INTERVAL:P3D
CALSCALE:GREGORIAN
BEGIN:VEVENT
DTSTART:20210623T230000Z
DTEND:20210624T010000Z
X-MICROSOFT-CDO-ALLDAYEVENT:FALSE
SUMMARY:BoCo Business-After-Hours with Boulder Chamber and DV8 Distillery
DESCRIPTION:BoCo Business-After-Hours with Boulder Chamber and DV8 Distillery\n\n\n\nEnjoy good food and drinks while networking with LGBTQ-owned and LGBTQ-friendly businesses as well as professionals in Boulder County and beyond!\n\n\n\nPlease register here through the Boulder Chamber Website.
X-ALT-DESC;FMTTYPE=text/html:<p class="p1" style="margin: 0px\; font-variant-numeric: normal\; font-variant-east-asian: normal\; font-stretch: normal\; font-size: 12px\; line-height: normal\; font-family: &quot\;Helvetica Neue&quot\;\;"><span style="font-family:arial\;"><span style="font-size:16px\;"><strong>BoCo Business-After-Hours with Boulder Chamber and DV8 Distillery</strong></span><br />\n<br />\nEnjoy good food and drinks while networking with LGBTQ-owned and LGBTQ-friendly businesses as well as professionals in Boulder County and beyond!</span></p>\n\n<p class="p2" style="margin: 0px\; font-variant-numeric: normal\; font-variant-east-asian: normal\; font-stretch: normal\; font-size: 12px\; line-height: normal\; font-family: &quot\;Helvetica Neue&quot\;\; min-height: 14px\;"><br />\n<span style="font-family:arial\;"><a href="http://business.boulderchamber.com/events/details/business-after-hours-21378">Please register here through the Boulder Chamber Website</a>.</span></p>\n
LOCATION:DV8 Distillery: 2480 49th St\, Boulder\, CO 80301
UID:e.2492.5955
SEQUENCE:3
DTSTAMP:20260420T163526Z
URL:https://business.colgbtqcc.org/events/details/boco-business-after-hours-with-boulder-chamber-and-dv8-distillery-5955
END:VEVENT

END:VCALENDAR
