BEGIN:VCALENDAR
VERSION:2.0
PRODID:-//ChamberMaster//Event Calendar 2.0//EN
METHOD:PUBLISH
X-PUBLISHED-TTL:P3D
REFRESH-INTERVAL:P3D
CALSCALE:GREGORIAN
BEGIN:VEVENT
DTSTART:20200110T230000Z
DTEND:20200111T010000Z
X-MICROSOFT-CDO-ALLDAYEVENT:FALSE
SUMMARY:BoCo Ribbon Cutting Ceremony: Prideful Wellness
DESCRIPTION:p.p1 {margin: 0.0px 0.0px 0.0px 0.0px\; font: 12.0px 'Helvetica Neue'}\np.p2 {margin: 0.0px 0.0px 0.0px 0.0px\; font: 12.0px 'Helvetica Neue'\; min-height: 14.0px}\n\nJoin us for a Ribbon Cutting Ceremony celebrating the new Longmont location of Prideful Wellness Self Care Center!\n\n\n\nPrideful Wellness offers bodywork\, massage\, wellness coaching\, and all-geared toward the LGBTQ community and our allies. The space is also home to the mental health organization Queer Asterisk which offers a variety of group and individual therapeutic services.\n\n\n\nCome celebrate this milestone with us! Happy hour style food and refreshments provided.
X-ALT-DESC;FMTTYPE=text/html:<style type="text/css">p.p1 {margin: 0.0px 0.0px 0.0px 0.0px\; font: 12.0px 'Helvetica Neue'}\np.p2 {margin: 0.0px 0.0px 0.0px 0.0px\; font: 12.0px 'Helvetica Neue'\; min-height: 14.0px}\n</style>\n<p class="p1">Join us for a Ribbon Cutting Ceremony celebrating the new Longmont location of Prideful Wellness Self Care Center!<br />\n<br />\nPrideful Wellness offers bodywork\, massage\, wellness coaching\, and all-geared toward the LGBTQ community and our allies. The space is also home to the mental health organization Queer Asterisk which offers a variety of group and individual therapeutic services.<br />\n<br />\nCome celebrate this milestone with us! Happy hour style food and refreshments provided.&nbsp\;</p>\n
LOCATION:p.p1 {margin: 0.0px 0.0px 2.0px 0.0px\; font: 14.0px 'Helvetica Neue'} p.p2 {margin: 0.0px 0.0px 0.0px 0.0px\; font: 12.0px 'Helvetica Neue'} p.p1 {margin: 0.0px 0.0px 0.0px 0.0px\; font: 12.0px 'Helvetica Neue'} Prideful Wellness: 1823 Sunset Pl Suite F\, Longmont\, CO 80501
UID:e.2492.5733
SEQUENCE:3
DTSTAMP:20260419T164501Z
URL:https://business.colgbtqcc.org/events/details/boco-ribbon-cutting-ceremony-prideful-wellness-5733
END:VEVENT

END:VCALENDAR
