BEGIN:VCALENDAR
VERSION:2.0
PRODID:-//ChamberMaster//Event Calendar 2.0//EN
METHOD:PUBLISH
X-PUBLISHED-TTL:P3D
REFRESH-INTERVAL:P3D
CALSCALE:GREGORIAN
BEGIN:VEVENT
DTSTART:20201008T150000Z
DTEND:20201008T160000Z
X-MICROSOFT-CDO-ALLDAYEVENT:FALSE
SUMMARY:Breakfast with the Minority Business Office
DESCRIPTION:Come learn about your MBO (Minority Business Office) Benefits & about the grant from Energize Colorado. Learn how you can potential have access to the grant/ loans provided from the GAP fund. Up to 25 millions dollars of assistance to small business owners.
X-ALT-DESC;FMTTYPE=text/html:<p style="margin: 0px\; font-stretch: normal\; font-size: 12px\; line-height: normal\; font-family: Helvetica\; color: rgb(38\, 38\, 38)\;">Come learn about your MBO (Minority Business Office) Benefits &amp\; about the grant from Energize Colorado. Learn how you can potential have access to the grant/ loans provided from the GAP fund. Up to 25 millions dollars of assistance to small business owners.&nbsp\;</p>\n
LOCATION:Colorado LGBTQ Chamber is inviting you to a scheduled Zoom meeting. Topic: Colorado LGBTQ Chamber's Zoom Meeting With the MBO ( Minority Business Office) Time: Oct 8\, 2020 09:00 AM Mountain Time (US and Canada) Join Zoom Meeting https://zoom.us/j/7209004522 Meeting ID: 720 900 4522 One tap mobile +16699006833\,\,7209004522# US (San Jose) +12532158782\,\,7209004522# US (Tacoma) Dial by your location +1 669 900 6833 US (San Jose) +1 253 215 8782 US (Tacoma) +1 346 248 7799 US (Houston) +1 929 205 6099 US (New York) +1 301 715 8592 US (Germantown) +1 312 626 6799 US (Chicago) Meeting ID: 720 900 4522 Find your local number: https://zoom.us/u/aeF0wIAESA
UID:e.2492.5831
SEQUENCE:3
DTSTAMP:20260421T074925Z
URL:https://business.colgbtqcc.org/events/details/breakfast-with-the-minority-business-office-5831
END:VEVENT

END:VCALENDAR
