BEGIN:VCALENDAR
VERSION:2.0
PRODID:-//ChamberMaster//Event Calendar 2.0//EN
METHOD:PUBLISH
X-PUBLISHED-TTL:P3D
REFRESH-INTERVAL:P3D
CALSCALE:GREGORIAN
BEGIN:VEVENT
DTSTART:20220225T003000Z
DTEND:20220225T023000Z
X-MICROSOFT-CDO-ALLDAYEVENT:FALSE
SUMMARY:Business After Hours
DESCRIPTION:Please join us at our upcoming Business After Hours on 2/24/2022 to welcome our newest CO LGBTQ Chamber member company\, Nola Voodoo Tavern & Perks. To learn more about Nola Voodoo Tavern & Perks\, click https://www.noladenver.com/.\n\n \n\nSpace is limited\, and we encourage all attendees to register as soon as possible and support this local Black-owned business.\n\n\nBrush up your elevator pitch\, bring your business cards\, bring a guest from your business network and connect with other members\, engage in conversation. \n\n\n\nProspective Members\, click HERE to learn more about membership.
X-ALT-DESC;FMTTYPE=text/html:<p style="color: rgb(34\, 34\, 34)\; font-family: Arial\, Helvetica\, sans-serif\; font-size: small\; margin: 0in\;"><span style="font-size:16px\;"><span style="font-family:arial\;"><span style="color: rgb(14\, 16\, 26)\;">Please join us at our upcoming Business After Hours on 2/24/2022 to welcome our newest CO LGBTQ Chamber member company\, Nola Voodoo Tavern &amp\; Perks. To learn more about Nola Voodoo Tavern &amp\; Perks\, click&nbsp\;<a data-saferedirecturl="https://www.google.com/url?q=https://nam12.safelinks.protection.outlook.com/?url%3Dhttps%253A%252F%252Fwww.noladenver.com%252F%26data%3D04%257C01%257Ctmoorenatal%2540hpdlaw.com%257C20d5054043214613709a08d9f32d1910%257Cb400d76fef194f60afcc29e1c858fadf%257C1%257C0%257C637808198235359618%257CUnknown%257CTWFpbGZsb3d8eyJWIjoiMC4wLjAwMDAiLCJQIjoiV2luMzIiLCJBTiI6Ik1haWwiLCJXVCI6Mn0%253D%257C1000%26sdata%3D1ScVQXcREqAesNO4uBI5P2cVa9hecetgLa0JXBdxIJE%253D%26reserved%3D0&amp\;source=gmail&amp\;ust=1645310336010000&amp\;usg=AOvVaw3UGJNmMuWgUMX3GFm2YNG8" href="https://nam12.safelinks.protection.outlook.com/?url=https%3A%2F%2Fwww.noladenver.com%2F&amp\;data=04%7C01%7Ctmoorenatal%40hpdlaw.com%7C20d5054043214613709a08d9f32d1910%7Cb400d76fef194f60afcc29e1c858fadf%7C1%7C0%7C637808198235359618%7CUnknown%7CTWFpbGZsb3d8eyJWIjoiMC4wLjAwMDAiLCJQIjoiV2luMzIiLCJBTiI6Ik1haWwiLCJXVCI6Mn0%3D%7C1000&amp\;sdata=1ScVQXcREqAesNO4uBI5P2cVa9hecetgLa0JXBdxIJE%3D&amp\;reserved=0" style="color: rgb(17\, 85\, 204)\;" target="_blank"><span style="color: rgb(74\, 110\, 224)\;">https://www.noladenver.<wbr />com/</span></a>.</span></span></span></p>\n\n<p style="color: rgb(34\, 34\, 34)\; font-family: Arial\, Helvetica\, sans-serif\; font-size: small\; margin: 0in\;"><span style="font-size:16px\;"><span style="font-family:arial\;"><span style="color: rgb(14\, 16\, 26)\;">&nbsp\;</span></span></span></p>\n\n<p style="color: rgb(34\, 34\, 34)\; font-family: Arial\, Helvetica\, sans-serif\; font-size: small\; margin: 0in\;"><span style="font-size:16px\;"><span style="font-family:arial\;"><span style="color: rgb(14\, 16\, 26)\;">Space is limited\, and we encourage all attendees to register as soon as possible and support this local Black-owned business.</span></span></span></p>\n<br />\n<span style="font-size:16px\;"><span style="font-family:arial\;"><span style="color:black\;">Brush up your elevator pitch\, bring your business cards\, bring a guest from your business network and connect with other members\, engage in conversation.&nbsp\;</span><br />\n<br />\nProspective Members\, click <a href="https://colgbtqcc.org/about/join/">HERE </a>to learn more about membership.&nbsp\;</span></span><br />\n&nbsp\;
LOCATION:NOLA Voodoo Tavern 2231 Bruce Randolph Ave Denver\, CO 80205
UID:e.2492.5974
SEQUENCE:3
DTSTAMP:20260420T035558Z
URL:https://business.colgbtqcc.org/events/details/business-after-hours-5974
END:VEVENT

END:VCALENDAR
