BEGIN:VCALENDAR
VERSION:2.0
PRODID:-//ChamberMaster//Event Calendar 2.0//EN
METHOD:PUBLISH
X-PUBLISHED-TTL:P3D
REFRESH-INTERVAL:P3D
CALSCALE:GREGORIAN
BEGIN:VEVENT
DTSTART:20191120T233000Z
DTEND:20191121T030000Z
X-MICROSOFT-CDO-ALLDAYEVENT:FALSE
SUMMARY:Business-After-Hours: Hosted by Bigsby's Folly
DESCRIPTION:Come to the Business After Hours for great food and networking. We're looking forward to seeing you all there!
X-ALT-DESC;FMTTYPE=text/html:<p style="margin: 0px\; padding: 0px 0px 10px\; border: 0px\; outline: 0px\; font-size: 16px\; vertical-align: baseline\; line-height: 26px\; color: rgb(135\, 135\, 135)\; font-family: 'Droid Sans'\, Helvetica\, Arial\, Lucida\, sans-serif\; background-image: initial\; background-attachment: initial\; background-size: initial\; background-origin: initial\; background-clip: initial\; background-position: initial\; background-repeat: initial\;"><span style="font-family:times new roman\;">Come to the&nbsp\;<span style="margin: 0px\; padding: 0px\; border: 0px\; outline: 0px\; vertical-align: baseline\; color: rgb(0\, 0\, 0)\; background: transparent\;">Business After Hours&nbsp\;</span>for great food and networking. We&rsquo\;re looking forward to seeing you all there!</span></p>\n\n<p style="margin: 0px\; padding: 0px 0px 10px\; border: 0px\; outline: 0px\; font-size: 16px\; vertical-align: baseline\; line-height: 26px\; color: rgb(135\, 135\, 135)\; font-family: 'Droid Sans'\, Helvetica\, Arial\, Lucida\, sans-serif\; background-image: initial\; background-attachment: initial\; background-size: initial\; background-origin: initial\; background-clip: initial\; background-position: initial\; background-repeat: initial\;">&nbsp\;</p>\n
LOCATION:3563 Wazee St. Denver\, CO 80216
UID:e.2492.5363
SEQUENCE:3
DTSTAMP:20260422T011146Z
URL:https://business.colgbtqcc.org/events/details/business-after-hours-hosted-by-bigsby-s-folly-5363
END:VEVENT

END:VCALENDAR
