BEGIN:VCALENDAR
VERSION:2.0
PRODID:-//ChamberMaster//Event Calendar 2.0//EN
METHOD:PUBLISH
X-PUBLISHED-TTL:P3D
REFRESH-INTERVAL:P3D
CALSCALE:GREGORIAN
BEGIN:VEVENT
DTSTART:20150730T233000Z
DTEND:20150731T013000Z
X-MICROSOFT-CDO-ALLDAYEVENT:FALSE
SUMMARY:Business-After-Hours: Hosted by Ceelee Chainey of Vivace Creative and Craig Brown of Desmond Brown Group/Your Castle Real Estate at Two-Fisted Mario's Pizza & The Double Daughters Cocktail Lounge!
DESCRIPTION:The July Business-After-hours will be at the Two Fisted Mario's Pizza & The Double Daughters Cocktail Lounge\, from 5\;30 to 7:30pm. Our host will be Ceelee Chainey  from Vivace Creative and Craig Brown of Desmond Brown Group at Your Castle Real Estate.\n\nCome to the Business After Hours for great food and networking. We're looking forward to seeing you all there!\n\nThe last Thursday of the month\, excluding December\, Business After Hours are held at member locations in the local community. Members meet to network and connect with one another\, get updated on DGLCC affairs and calendar\, obtain information about the hosts and share food and drinks. Business After Hours events are no cost to members and their guests.
X-ALT-DESC;FMTTYPE=text/html:<p style="margin: 0px\; padding: 0px 0px 10px\; border: 0px\; outline: 0px\; font-size: 16px\; vertical-align: baseline\; line-height: 26px\; color: rgb(135\, 135\, 135)\; font-family: 'Droid Sans'\, Helvetica\, Arial\, Lucida\, sans-serif\; background-image: initial\; background-attachment: initial\; background-size: initial\; background-origin: initial\; background-clip: initial\; background-position: initial\; background-repeat: initial\;">The July Business-After-hours will be at the Two Fisted Mario&rsquo\;s Pizza &amp\; The Double Daughters Cocktail Lounge\, from 5\;30 to 7:30pm. Our host will be Ceelee Chainey&nbsp\; from Vivace Creative and Craig Brown of&nbsp\;Desmond Brown Group at Your Castle Real Estate.</p>\n\n<p style="margin: 0px\; padding: 0px 0px 10px\; border: 0px\; outline: 0px\; font-size: 16px\; vertical-align: baseline\; line-height: 26px\; color: rgb(135\, 135\, 135)\; font-family: 'Droid Sans'\, Helvetica\, Arial\, Lucida\, sans-serif\; background-image: initial\; background-attachment: initial\; background-size: initial\; background-origin: initial\; background-clip: initial\; background-position: initial\; background-repeat: initial\;">Come to the&nbsp\;<span style="margin: 0px\; padding: 0px\; border: 0px\; outline: 0px\; vertical-align: baseline\; color: rgb(0\, 0\, 0)\; background: transparent\;">Business After Hours&nbsp\;</span>for great food and networking. We&rsquo\;re looking forward to seeing you all there!</p>\n\n<p style="margin: 0px\; padding: 0px 0px 10px\; border: 0px\; outline: 0px\; font-size: 16px\; vertical-align: baseline\; line-height: 26px\; color: rgb(135\, 135\, 135)\; font-family: 'Droid Sans'\, Helvetica\, Arial\, Lucida\, sans-serif\; background-image: initial\; background-attachment: initial\; background-size: initial\; background-origin: initial\; background-clip: initial\; background-position: initial\; background-repeat: initial\;"><span style="margin: 0px\; padding: 0px\; border: 0px\; outline: 0px\; vertical-align: baseline\; color: rgb(0\, 0\, 0)\; background: transparent\;">The last Thursday of the month\, excluding December\, Business After Hours are held at member locations in the local community. Members meet to network and connect with one another\, get updated on DGLCC affairs and calendar\, obtain information about the hosts and share food and drinks. Business After Hours events are no cost to members and their guests.</span></p>\n
LOCATION:
UID:e.2492.1263
SEQUENCE:3
DTSTAMP:20260422T174609Z
URL:https://business.colgbtqcc.org/events/details/business-after-hours-hosted-by-ceelee-chainey-of-vivace-creative-and-craig-brown-of-desmond-brown-group-your-castle-real-estate-at-two-fisted-mario-s-pizza-the-double-daughters-cocktail-lounge-07-30-2015-1263
END:VEVENT

END:VCALENDAR
