BEGIN:VCALENDAR
VERSION:2.0
PRODID:-//ChamberMaster//Event Calendar 2.0//EN
METHOD:PUBLISH
X-PUBLISHED-TTL:P3D
REFRESH-INTERVAL:P3D
CALSCALE:GREGORIAN
BEGIN:VEVENT
DTSTART:20210527T233000Z
DTEND:20210528T020000Z
X-MICROSOFT-CDO-ALLDAYEVENT:FALSE
SUMMARY:Business-After-Hours: Hosted by Lucid
DESCRIPTION:Join us for our monthly business after hours event where members get to meet one another and make connections for the future. Come to the Business After Hours for networking. We're looking forward to seeing you all there!\n\nThe last Thursday of the month\, excluding December\, Business After Hours are held at member locations in the local community. Members meet to network and connect with one another\, get updated on CoLGBTCC affairs and calendar\, obtain information about the hosts and share food and drinks. Business After Hours events are no cost to members and their guests.
X-ALT-DESC;FMTTYPE=text/html:<p style="margin: 0px\; padding: 0px 0px 10px\; border: 0px\; outline: 0px\; font-size: 16px\; vertical-align: baseline\; line-height: 26px\; color: rgb(135\, 135\, 135)\; font-family: 'Droid Sans'\, Helvetica\, Arial\, Lucida\, sans-serif\; background-image: initial\; background-attachment: initial\; background-size: initial\; background-origin: initial\; background-clip: initial\; background-position: initial\; background-repeat: initial\;"><span style="font-family:arial\;"><span style="color: rgb(32\, 33\, 36)\; letter-spacing: 0.2px\; white-space: pre-wrap\;">Join us for our monthly business after hours event where members get to meet one another and make connections for the future. </span><span style="color:#000000\;"><span style="font-size:12px\;">Come to the&nbsp\;<span style="margin: 0px\; padding: 0px\; border: 0px\; outline: 0px\; vertical-align: baseline\; background: transparent\;">Business After Hours&nbsp\;</span>for networking. We&rsquo\;re looking forward to seeing you all there!</span></span></span></p>\n\n<p style="margin: 0px\; padding: 0px 0px 10px\; border: 0px\; outline: 0px\; font-size: 16px\; vertical-align: baseline\; line-height: 26px\; color: rgb(135\, 135\, 135)\; font-family: 'Droid Sans'\, Helvetica\, Arial\, Lucida\, sans-serif\; background-image: initial\; background-attachment: initial\; background-size: initial\; background-origin: initial\; background-clip: initial\; background-position: initial\; background-repeat: initial\;"><span style="font-family:arial\;"><span style="color:#000000\;"><span style="font-size:12px\;"><span style="margin: 0px\; padding: 0px\; border: 0px\; outline: 0px\; vertical-align: baseline\; background: transparent\;">The last Thursday of the month\, excluding December\, Business After Hours are held at member locations in the local community. Members meet to network and connect with one another\, get updated on </span>CoLGBTCC&nbsp\;<span style="margin: 0px\; padding: 0px\; border: 0px\; outline: 0px\; vertical-align: baseline\; background: transparent\;">affairs and calendar\, obtain information about the hosts and share food and drinks. Business After Hours events are no cost to members and their guests.</span></span></span></span></p>\n
LOCATION:Lucid 600 E Colfax ave. Denver\, CO 80203
UID:e.2492.3669
SEQUENCE:3
DTSTAMP:20260420T181131Z
URL:https://business.colgbtqcc.org/events/details/business-after-hours-hosted-by-lucid-3669
END:VEVENT

END:VCALENDAR
