BEGIN:VCALENDAR
VERSION:2.0
PRODID:-//ChamberMaster//Event Calendar 2.0//EN
METHOD:PUBLISH
X-PUBLISHED-TTL:P3D
REFRESH-INTERVAL:P3D
CALSCALE:GREGORIAN
BEGIN:VEVENT
DTSTART:20210729T233000Z
DTEND:20210730T020000Z
X-MICROSOFT-CDO-ALLDAYEVENT:FALSE
SUMMARY:Business-After-Hours: Hosted by RTD
DESCRIPTION:Join us at the Double Tree by Hilton- Central Park for an opportunity to get to know fellow members of the LGBTQ business community. Drinks and appetizers will be provided. Space is limited\, please register.\n\nProgram\n\n- 5:30-6:00 Welcome & Open Networking\n\n- 6:00-6:30 Presentation on RTD's System-wide Fare Study and Fare Equity Analysis and conversation around improving RTD's fare structure\n\n- In order to create a successful conversation around RTD's fare structure\, we will be asking guests the following questions:\n\n \n\n1. Which of the following best describes your opinion of RTD's fare structure? Please \n\nexplain why you chose your response to the question.\n\n- RTD's fare structure is very easy to understand.\n\n- RTD's fare structure is somewhat easy to understand.\n\n- RTD's fare structure is somewhat difficult to understand.\n\n- RTD's fare structure is very difficult to understand.\n\n- Not applicable: I am unfamiliar with RTD's fare structure.\n\n \n\n2. What aspects of RTD's fare structure do you think work well?\n\n \n\n3. What aspects of RTD's fare structure need the most improvement?\n\n \n\n- 6:30-7:00 Open Networking and Close
X-ALT-DESC;FMTTYPE=text/html:<div>Join us at the Double Tree by Hilton- Central Park for an opportunity to get to know fellow members of the LGBTQ business community. Drinks and appetizers will be provided. Space is limited\, please register.</div>\n\n<div>Program</div>\n\n<div>- 5:30-6:00 Welcome &amp\; Open Networking</div>\n\n<div>- 6:00-6:30 Presentation on RTD&#39\;s System-wide Fare Study and Fare Equity Analysis and conversation around improving RTD&#39\;s fare structure</div>\n\n<div>- In order to create a successful conversation around RTD&#39\;s fare structure\, we will be asking guests the following questions:</div>\n\n<div>&nbsp\;</div>\n\n<div>1. Which of the following best describes your opinion of RTD&#39\;s fare structure? Please&nbsp\;</div>\n\n<div>explain why you chose your response to the question.</div>\n\n<div>- RTD&#39\;s fare structure is very easy to understand.</div>\n\n<div>- RTD&#39\;s fare structure is somewhat easy to understand.</div>\n\n<div>- RTD&#39\;s fare structure is somewhat difficult to understand.</div>\n\n<div>- RTD&#39\;s fare structure is very difficult to understand.</div>\n\n<div>- Not applicable: I am unfamiliar with RTD&#39\;s fare structure.</div>\n\n<div>&nbsp\;</div>\n\n<div>2. What aspects of RTD&#39\;s fare structure do you think work well?</div>\n\n<div>&nbsp\;</div>\n\n<div>3. What aspects of RTD&#39\;s fare structure need the most improvement?</div>\n\n<div>&nbsp\;</div>\n\n<div>- 6:30-7:00 Open Networking and Close&nbsp\;</div>\n
LOCATION:DoubleTree by Hilton Denver Central Park 4040 Quebec St\, Denver\, CO 80216
UID:e.2492.3671
SEQUENCE:3
DTSTAMP:20260420T163505Z
URL:https://business.colgbtqcc.org/events/details/business-after-hours-hosted-by-rtd-3671
END:VEVENT

END:VCALENDAR
