BEGIN:VCALENDAR
VERSION:2.0
PRODID:-//ChamberMaster//Event Calendar 2.0//EN
METHOD:PUBLISH
X-PUBLISHED-TTL:P3D
REFRESH-INTERVAL:P3D
CALSCALE:GREGORIAN
BEGIN:VEVENT
DTSTART:20200228T003000Z
DTEND:20200228T030000Z
X-MICROSOFT-CDO-ALLDAYEVENT:FALSE
SUMMARY:Business-After-Hours: Jordy Construction Denver
DESCRIPTION:Come to the Business After Hours for great food and networking. We're looking forward to seeing you all there!\n\nThe last Thursday of the month\, excluding December\, Business After Hours are held at member locations in the local community. Members meet to network and connect with one another\, get updated on CoLGBTCC affairs and calendar\, obtain information about the hosts and share food and drinks. Business After Hours events are no cost to members and their guests.
X-ALT-DESC;FMTTYPE=text/html:<p style="margin: 0px\; padding: 0px 0px 10px\; border: 0px\; outline: 0px\; font-size: 16px\; vertical-align: baseline\; line-height: 26px\; color: rgb(135\, 135\, 135)\; font-family: 'Droid Sans'\, Helvetica\, Arial\, Lucida\, sans-serif\; background-image: initial\; background-attachment: initial\; background-size: initial\; background-origin: initial\; background-clip: initial\; background-position: initial\; background-repeat: initial\;">Come to the&nbsp\;<span style="margin: 0px\; padding: 0px\; border: 0px\; outline: 0px\; vertical-align: baseline\; color: rgb(0\, 0\, 0)\; background: transparent\;">Business After Hours&nbsp\;</span>for great food and networking. We&rsquo\;re looking forward to seeing you all there!</p>\n\n<p style="margin: 0px\; padding: 0px 0px 10px\; border: 0px\; outline: 0px\; font-size: 16px\; vertical-align: baseline\; line-height: 26px\; color: rgb(135\, 135\, 135)\; font-family: 'Droid Sans'\, Helvetica\, Arial\, Lucida\, sans-serif\; background-image: initial\; background-attachment: initial\; background-size: initial\; background-origin: initial\; background-clip: initial\; background-position: initial\; background-repeat: initial\;"><span style="color:#000000\;"><span style="margin: 0px\; padding: 0px\; border: 0px\; outline: 0px\; vertical-align: baseline\; background: transparent\;">The last Thursday of the month\, excluding December\, Business After Hours are held at member locations in the local community. Members meet to network and connect with one another\, get updated on </span>CoLGBTCC&nbsp\;<span style="margin: 0px\; padding: 0px\; border: 0px\; outline: 0px\; vertical-align: baseline\; background: transparent\;">affairs and calendar\, obtain information about the hosts and share food and drinks. Business After Hours events are no cost to members and their guests.</span></span></p>\n
LOCATION:1212 S Broadway #100\, Denver\, CO 80210\, United States Parking is available on the south side of the building in the Concentra lot.
UID:e.2492.3654
SEQUENCE:3
DTSTAMP:20260421T184222Z
URL:https://business.colgbtqcc.org/events/details/business-after-hours-jordy-construction-denver-3654
END:VEVENT

END:VCALENDAR
