BEGIN:VCALENDAR
VERSION:2.0
PRODID:-//ChamberMaster//Event Calendar 2.0//EN
METHOD:PUBLISH
X-PUBLISHED-TTL:P3D
REFRESH-INTERVAL:P3D
CALSCALE:GREGORIAN
BEGIN:VEVENT
DTSTART:20220324T233000Z
DTEND:20220325T013000Z
X-MICROSOFT-CDO-ALLDAYEVENT:FALSE
SUMMARY:Business After Hours - Save The Date!
DESCRIPTION:The last Thursday of the month\, excluding December\, Business After Hours are held at member locations. \n\n\n\nJoin us at our monthly business after hours\, bring a guest from your network and meet fellow members and expand your business network.
X-ALT-DESC;FMTTYPE=text/html:<span style="color: rgb(0\, 0\, 0)\; font-family: arial\; font-size: 12px\;">The last Thursday of the month\, excluding December\, Business After Hours are held at member locations.&nbsp\;</span><br />\n<br />\n<span style="font-size:12px\;"><span style="language:en-US\;font-weight:normal\;font-style:normal\;"><span style="color:black\;"><span style="font-family:arial\;">Join us at our monthly business after hours\, bring a guest from your network and meet fellow members and expand your business network.</span></span></span></span>
LOCATION:
UID:e.2492.5975
SEQUENCE:3
DTSTAMP:20260420T020819Z
URL:https://business.colgbtqcc.org/events/details/business-after-hours-save-the-date-5975
END:VEVENT

END:VCALENDAR
