BEGIN:VCALENDAR
VERSION:2.0
PRODID:-//ChamberMaster//Event Calendar 2.0//EN
METHOD:PUBLISH
X-PUBLISHED-TTL:P3D
REFRESH-INTERVAL:P3D
CALSCALE:GREGORIAN
BEGIN:VEVENT
DTSTART:20200924T233000Z
DTEND:20200925T020000Z
X-MICROSOFT-CDO-ALLDAYEVENT:FALSE
SUMMARY:Business-After-Hours: Tree Ring Digital and STREETCAR8
DESCRIPTION:Please join us on September 24th for Business-After-Hours hosted by Tree Ring Digital and co-hosted by STREETCAR8. At this free event\, you'll have the opportunity to network and connect with your community while enjoying complimentary food and drinks. Tree Ring Digital is the innovative and creative partner your small business needs to maximize its marketing efforts. We are looking forward to seeing you all there!\n\nThe last Thursday of the month\, excluding December\, Business After Hours are held at member locations in the local community. Members meet to network and connect with one another\, get updated on CoLGBTCC affairs and calendar\, obtain information about the hosts and share food and drinks. Business After Hours events are no cost to members and their guests.
X-ALT-DESC;FMTTYPE=text/html:<p style="margin: 0px\; padding: 0px 0px 10px\; border: 0px\; outline: 0px\; font-size: 16px\; vertical-align: baseline\; line-height: 26px\; color: rgb(135\, 135\, 135)\; font-family: 'Droid Sans'\, Helvetica\, Arial\, Lucida\, sans-serif\; background-image: initial\; background-attachment: initial\; background-size: initial\; background-origin: initial\; background-clip: initial\; background-position: initial\; background-repeat: initial\;"><span style="font-size:14px\;"><span style="font-family:arial\;"><span id="docs-internal-guid-ce962ff9-7fff-d5ef-427a-6f83372df700" style="caret-color: rgb(0\, 0\, 0)\;"><span style="background-color: transparent\; font-variant-ligatures: normal\; font-variant-east-asian: normal\; font-variant-position: normal\; vertical-align: baseline\; white-space: pre-wrap\;"><span style="color:#000000\;">Please join us on September 24th for Business-After-Hours hosted by </span><strong><a href="http://www.treeringdigital.com"><span style="color:#0000FF\;">Tree Ring Digital</span></a></strong><span style="color:#000000\;"> and co-hosted by </span><strong><a href="https://streetcar8.com"><span style="color:#0000CD\;">STREETCAR8</span></a></strong><span style="color:#000000\;">. At this free event\, you&rsquo\;ll have the opportunity to network and connect with your community while enjoying complimentary food and drinks. Tree Ring Digital is the innovative and creative partner your small business needs to maximize its marketing efforts. </span></span></span><span style="color:#000000\;"><span style="caret-color: rgb(0\, 0\, 0)\;"><span style="background-color: transparent\; font-variant-ligatures: normal\; font-variant-east-asian: normal\; font-variant-position: normal\; vertical-align: baseline\; white-space: pre-wrap\;">We are </span></span>looking forward to seeing you all there!</span></span></span></p>\n\n<p style="margin: 0px\; padding: 0px 0px 10px\; border: 0px\; outline: 0px\; font-size: 16px\; vertical-align: baseline\; line-height: 26px\; color: rgb(135\, 135\, 135)\; font-family: 'Droid Sans'\, Helvetica\, Arial\, Lucida\, sans-serif\; background-image: initial\; background-attachment: initial\; background-size: initial\; background-origin: initial\; background-clip: initial\; background-position: initial\; background-repeat: initial\;"><span style="font-size:14px\;"><span style="font-family:arial\;"><span style="color:#000000\;"><span style="margin: 0px\; padding: 0px\; border: 0px\; outline: 0px\; vertical-align: baseline\; background: transparent\;">The last Thursday of the month\, excluding December\, Business After Hours are held at member locations in the local community. Members meet to network and connect with one another\, get updated on </span>CoLGBTCC&nbsp\;<span style="margin: 0px\; padding: 0px\; border: 0px\; outline: 0px\; vertical-align: baseline\; background: transparent\;">affairs and calendar\, obtain information about the hosts and share food and drinks. Business After Hours events are no cost to members and their guests.</span></span></span></span></p>\n
LOCATION:Denver Sweet 776 N\, Lincoln St\, Denver\, CO 80203
UID:e.2492.3661
SEQUENCE:3
DTSTAMP:20260421T075104Z
URL:https://business.colgbtqcc.org/events/details/business-after-hours-tree-ring-digital-and-streetcar8-3661
END:VEVENT

END:VCALENDAR
