BEGIN:VCALENDAR
VERSION:2.0
PRODID:-//ChamberMaster//Event Calendar 2.0//EN
METHOD:PUBLISH
X-PUBLISHED-TTL:P3D
REFRESH-INTERVAL:P3D
CALSCALE:GREGORIAN
BEGIN:VEVENT
DTSTART:20191113T023000Z
DTEND:20191113T043000Z
X-MICROSOFT-CDO-ALLDAYEVENT:FALSE
SUMMARY:Classic Film Series - "Casablanca" (1942)
DESCRIPTION:Rick Blaine (Humphrey Bogart)\, an American who owns a nightclub in Casablanca\, Morocco\, discovers his old flame Ilsa (Ingrid Bergman) is in town with her husband\, Victor L szl  (Paul Henreid). L szl  is a resistance leader from Czechoslovakia\, and with Germans on his tail\, Ilsa knows Rick can help them get out of the country   but will he? Winning the Academy Award for Outstanding Motion Picture\, the cast is rounded out by Claude Rains\, the loveable S. Z. Sakall\, Sydney Greenstreet and Peter Lorre. Max Steiner's musical score soars\, and Michael Curtiz won the award for best director. Curated and hosted by Elevations Credit Union's own Community Development Manager\, Jeffrey Kash\, this series brings the classics to the big screen in the community room of Elevations' offices at 1 Environmental Way in Broomfield\, near Flatiron Crossing Mall.
X-ALT-DESC;FMTTYPE=text/html:Rick Blaine (Humphrey Bogart)\, an American who owns a nightclub in Casablanca\, Morocco\, discovers his old flame Ilsa (Ingrid Bergman) is in town with her husband\, Victor L&aacute\;szl&oacute\; (Paul Henreid). L&aacute\;szl&oacute\; is a resistance leader from Czechoslovakia\, and with Germans on his tail\, Ilsa knows Rick can help them get out of the country &mdash\; but will he? Winning the Academy Award for Outstanding Motion Picture\, the cast is rounded out by Claude Rains\, the loveable S. Z. Sakall\, Sydney Greenstreet and Peter Lorre. Max Steiner&rsquo\;s musical score soars\, and Michael Curtiz won the award for best director. Curated and hosted by Elevations Credit Union&rsquo\;s own Community Development Manager\, Jeffrey Kash\, this series brings the classics to the big screen in the community room of Elevations&rsquo\; offices at 1 Environmental Way in Broomfield\, near Flatiron Crossing Mall.
LOCATION:Elevations Credit Union - 1 Environmental Way\; Broomfield\, CO 80021
UID:e.2492.5718
SEQUENCE:3
DTSTAMP:20260419T200143Z
URL:https://business.colgbtqcc.org/events/details/classic-film-series-casablanca-1942-5718
END:VEVENT

END:VCALENDAR
