BEGIN:VCALENDAR
VERSION:2.0
PRODID:-//ChamberMaster//Event Calendar 2.0//EN
METHOD:PUBLISH
X-PUBLISHED-TTL:P3D
REFRESH-INTERVAL:P3D
CALSCALE:GREGORIAN
BEGIN:VEVENT
DTSTART:20191213T003000Z
DTEND:20191213T030000Z
X-MICROSOFT-CDO-ALLDAYEVENT:FALSE
SUMMARY:COLORADO LGBTQ CHAMBER OF COMMERCE - Holiday Social
DESCRIPTION:Join Us for the annual Chamber Holiday Social.. Hors D'oeuvres and refreshments provided. \nThis year we will be taking gift donations that will be given to Urban Peak\, the only non-profit organization in Denver that provides a full convergence of services for youth ages 15 through 24 experiencing homelessness or at imminent risk of becoming homeless. Their goal is to help these youth overcome real life challenges and become self-sufficient adults. If you are interested in donating items please check out there wish list using the link provided.\n\n\n\n\n\nLink to give: http://a.co/8EvpaEF
X-ALT-DESC;FMTTYPE=text/html:<span style="font-size:14px\;"><span style="font-family:times new roman\;">Join Us for the annual Chamber Holiday Social.. Hors D&#39\;oeuvres and refreshments provided.&nbsp\;</span></span>\n<p style="margin: 0px\; font-stretch: normal\; font-size: 12px\; line-height: normal\; font-family: &quot\;Times New Roman&quot\;\; color: rgb(0\, 0\, 0)\;"><span style="font-size:14px\;"><span style="font-family:times new roman\;"><span style="-webkit-font-kerning: none\;">This year we will&nbsp\;be taking gift donations that will be given to Urban Peak\,&nbsp\;the only non-profit&nbsp\;organization in Denver that provides a full convergence of services for youth ages 15 through 24 experiencing homelessness or at imminent risk of becoming homeless. Their goal is to help these youth overcome real life challenges and become self-sufficient adults. If you are interested in donating items please check out there wish list using the link provided.</span></span></span></p>\n\n<p style="margin: 0px\; font-stretch: normal\; font-size: 12px\; line-height: normal\; font-family: &quot\;Times New Roman&quot\;\; color: rgb(0\, 0\, 0)\; min-height: 15px\;"><br />\n<br />\n<span style="font-size:14px\;"><span style="font-family:times new roman\;">Link to give:&nbsp\;<a href="http://a.co/8EvpaEF" rel="noopener noreferrer" target="gbFMMDs7r6CIdJ4OAcGMGp7">http://a.co/8EvpaEF</a></span></span><br />\n&nbsp\;</p>\n
LOCATION:Warwick Hotel 1776 Grant St\, Denver\, CO 80203
UID:e.2492.2452
SEQUENCE:3
DTSTAMP:20260421T220718Z
URL:https://business.colgbtqcc.org/events/details/colorado-lgbtq-chamber-of-commerce-holiday-social-2452
END:VEVENT

END:VCALENDAR
