BEGIN:VCALENDAR
VERSION:2.0
PRODID:-//ChamberMaster//Event Calendar 2.0//EN
METHOD:PUBLISH
X-PUBLISHED-TTL:P3D
REFRESH-INTERVAL:P3D
CALSCALE:GREGORIAN
BEGIN:VEVENT
DTSTART:20200422T180000Z
DTEND:20200422T190000Z
X-MICROSOFT-CDO-ALLDAYEVENT:FALSE
SUMMARY:COVID- 19 Update Webinar for Chamber Members presented by KAISER PERMANENTE
DESCRIPTION:As the situation with the COVID-19 pandemic continues to evolve\, we are all coming together to innovate and contribute to the health and safety of our communities. As you do your part to take care of business\, we'd like to support you by providing information and resources that are important to your health and well-being\, and that of your employees\, and our communities.\n\nPlease join Kaiser Permanente Colorado for a special community webinar for chamber of commerce members. Learn about:\n\n\n	\n	COVID-19 updates from medical experts: Dr. Amy Duckro\, infectious disease specialist\, and Dr. Mark Learned will share the latest information and best practices in the current environment\n	\n	\n	State of CO 2020 legislative session updates: Amanda Massey\, Executive Director\, Colorado Association of Health Plans\n	\n	\n	Health care coverage / community resources: Maintaining coverage during unprecedented times and connecting people with community support services
X-ALT-DESC;FMTTYPE=text/html:<div class="page" style="caret-color: rgb(0\, 0\, 0)\; color: rgb(0\, 0\, 0)\;" title="Page 1">\n<div class="section">\n<div class="layoutArea">\n<div class="column">\n<p><span style="font-size:12px\;"><span style="font-family:times new roman\;">As the situation with the COVID-19 pandemic continues to evolve\, we are all coming together to innovate and contribute to the health and safety of our communities. As you do your part to take care of business\, we&rsquo\;d like to support you by providing information and resources that are important to your health and well-being\, and that of your employees\, and our communities.</span></span></p>\n\n<p><span style="font-size:12px\;"><span style="font-family:times new roman\;">Please join Kaiser Permanente Colorado for a special community webinar for chamber of commerce members. Learn about:</span></span></p>\n\n<ul>\n	<li style="font-size: 12pt\; font-family: ArialMT\;">\n	<p><span style="font-size:12px\;"><span style="font-family:times new roman\;"><span style="font-weight: 700\;">COVID-19 updates from medical experts:&nbsp\;</span>Dr. Amy Duckro\, infectious disease specialist\, and Dr. Mark Learned will share the latest information and best practices in the current environment</span></span></p>\n	</li>\n	<li style="font-size: 12pt\; font-family: ArialMT\;">\n	<p><span style="font-size:12px\;"><span style="font-family:times new roman\;"><span style="font-weight: 700\;">State of CO 2020 legislative session updates:&nbsp\;</span>Amanda Massey\, Executive Director\, Colorado Association of Health Plans</span></span></p>\n	</li>\n	<li style="font-size: 12pt\; font-family: ArialMT\;">\n	<p><span style="font-size:12px\;"><span style="font-family:times new roman\;"><span style="font-weight: 700\;">Health care coverage / community resources:&nbsp\;</span>Maintaining coverage during unprecedented times and connecting people with community support services</span></span></p>\n	</li>\n</ul>\n</div>\n</div>\n</div>\n</div>\n
LOCATION:To join the online event 1. Go to: https://kponline.webex.com/kponline/onstage/g.php?MTID=e2b74d1da2709b1b0e1011ff50269e205 2. Enter your full name\, email address\, and meeting password: thrive123 3. Click the "Join Now" button Audio conference information ------------------------------------------------------- To join the meeting by audio only (phone)\, dial the number below and enter the access code. Dial: 1-408-418-9388 Access code: 285 742 567
UID:e.2492.5808
SEQUENCE:3
DTSTAMP:20260421T170818Z
URL:https://business.colgbtqcc.org/events/details/covid-19-update-webinar-for-chamber-members-presented-by-kaiser-permanente-5808
END:VEVENT

END:VCALENDAR
