BEGIN:VCALENDAR
VERSION:2.0
PRODID:-//ChamberMaster//Event Calendar 2.0//EN
METHOD:PUBLISH
X-PUBLISHED-TTL:P3D
REFRESH-INTERVAL:P3D
CALSCALE:GREGORIAN
BEGIN:VEVENT
DTSTART:20211021T233000Z
DTEND:20211022T013000Z
X-MICROSOFT-CDO-ALLDAYEVENT:FALSE
SUMMARY:Denver Business-After-Hours: Hosted by Blend - Beer\, Wine and Spirits
DESCRIPTION:Denver Business-After-Hours: Hosted by Blend - Beer\, Wine and Spirits\n\n\n\nEnjoy good food and drinks while networking with LGBTQ-owned and LGBTQ-friendly businesses as well as professionals in our community and beyond!\n\n\n\nThe venue will be providing a wine tasting for our guests along with Mountain Man Nut & Fruit being a sponsor of snacks to go along with the tasting.\n\n\n\nPlease RSVP by clicking "Register".
X-ALT-DESC;FMTTYPE=text/html:<span style="font-size:14px\;"><strong>Denver Business-After-Hours: Hosted by Blend - Beer\, Wine and Spirits</strong></span><br />\n<br />\nEnjoy good food and drinks while networking with LGBTQ-owned and LGBTQ-friendly businesses as well as professionals in our community and beyond!<br />\n<br />\nThe venue will be providing a wine tasting for our guests along with Mountain Man Nut &amp\; Fruit being a sponsor of snacks to go along with the tasting.<br />\n<br />\nPlease RSVP by clicking &quot\;Register&quot\;.
LOCATION:Blend - Beer\, Wine and Spirits: 3435 E 1st Ave.\, Denver\, CO 80206
UID:e.2492.5965
SEQUENCE:3
DTSTAMP:20260420T102637Z
URL:https://business.colgbtqcc.org/events/details/denver-business-after-hours-hosted-by-blend-beer-wine-and-spirits-5965
END:VEVENT

END:VCALENDAR
