BEGIN:VCALENDAR
VERSION:2.0
PRODID:-//ChamberMaster//Event Calendar 2.0//EN
METHOD:PUBLISH
X-PUBLISHED-TTL:P3D
REFRESH-INTERVAL:P3D
CALSCALE:GREGORIAN
BEGIN:VEVENT
DTSTART:20210819T233000Z
DTEND:20210820T013000Z
X-MICROSOFT-CDO-ALLDAYEVENT:FALSE
SUMMARY:Denver Chapter Business After Hours
DESCRIPTION:Join the Denver Chapter for drinks and Pizza at Tight End on East Colfax Thursday\, August 19th from 5:30-7:30pm.
X-ALT-DESC;FMTTYPE=text/html:Join the Denver Chapter for drinks and Pizza at Tight End on East Colfax Thursday\, August 19th from 5:30-7:30pm.
LOCATION:Tight End (formerly Streets of London) 1501 E Colfax Ave. Denver\, CO 80218 Parking: Street parking
UID:e.2492.5961
SEQUENCE:3
DTSTAMP:20260420T133559Z
URL:https://business.colgbtqcc.org/events/details/denver-chapter-business-after-hours-5961
END:VEVENT

END:VCALENDAR
