BEGIN:VCALENDAR
VERSION:2.0
PRODID:-//ChamberMaster//Event Calendar 2.0//EN
METHOD:PUBLISH
X-PUBLISHED-TTL:P3D
REFRESH-INTERVAL:P3D
CALSCALE:GREGORIAN
BEGIN:VEVENT
DTSTART:20200420T220000Z
DTEND:20200420T233000Z
X-MICROSOFT-CDO-ALLDAYEVENT:FALSE
SUMMARY:Denver Metro Planning Committee Meeting
DESCRIPTION:Committee meeting for the Denver Metro Chapter.\n\n\n\nThis meeting will recap the goals of the newly formed chapter\, discuss next steps\, and brainstorm ideas for the Denver Chapter
X-ALT-DESC;FMTTYPE=text/html:Committee meeting for the Denver Metro Chapter.<br />\n<br />\nThis meeting will recap the goals of the newly formed chapter\, discuss next steps\, and brainstorm ideas for the Denver Chapter\n<p>&nbsp\;</p>\n
LOCATION:This will be a virtual meeting via Zoom! Topic: Denver Metro Planning Committee meeting Time: April 20\, 2020 04:00 PM Mountain Time (US and Canada) Instructions to join the meeting: Download Zoom (on computer or phone) in advance of the meeting. After the download and before 4pm click this link: https://zoom.us/j/7209004522 to join the meeting. You can use video or just chat. Be sure to have a strong wifi connection
UID:e.2492.5796
SEQUENCE:3
DTSTAMP:20260421T154033Z
URL:https://business.colgbtqcc.org/events/details/denver-metro-planning-committee-meeting-5796
END:VEVENT

END:VCALENDAR
