BEGIN:VCALENDAR
VERSION:2.0
PRODID:-//ChamberMaster//Event Calendar 2.0//EN
METHOD:PUBLISH
X-PUBLISHED-TTL:P3D
REFRESH-INTERVAL:P3D
CALSCALE:GREGORIAN
BEGIN:VEVENT
DTSTART:20200316T220000Z
DTEND:20200316T230000Z
X-MICROSOFT-CDO-ALLDAYEVENT:FALSE
SUMMARY:Denver Planning Committee Meeting
DESCRIPTION:Committee meeting for the Denver Metro Chapter.\n\n\n\nThis meeting will recap the goals of the newly formed chapter\, discuss next steps\, and brainstorm ideas for the Denver Chapter
X-ALT-DESC;FMTTYPE=text/html:Committee meeting for the Denver Metro Chapter.<br />\n<br />\nThis meeting will recap the goals of the newly formed chapter\, discuss next steps\, and brainstorm ideas for the Denver Chapter\n<p>&nbsp\;</p>\n
LOCATION:This will be a virtual meeting via Zoom! Colorado LGBTQ Chamber is inviting you to a scheduled Zoom meeting. Topic: Denver Chapter Planning Meeting Time: Mar 16\, 2020 04:00 PM Mountain Time (US and Canada) Join Zoom Meeting https://zoom.us/j/8892142533 Meeting ID: 889 214 2533 One tap mobile +16699006833\,\,8892142533# US (San Jose) +19292056099\,\,8892142533# US (New York) Dial by your location +1 669 900 6833 US (San Jose) +1 929 205 6099 US (New York) Meeting ID: 889 214 2533 Find your local number: https://zoom.us/u/abJITlsj4H
UID:e.2492.5782
SEQUENCE:3
DTSTAMP:20260421T172505Z
URL:https://business.colgbtqcc.org/events/details/denver-planning-committee-meeting-5782
END:VEVENT

END:VCALENDAR
