BEGIN:VCALENDAR
VERSION:2.0
PRODID:-//ChamberMaster//Event Calendar 2.0//EN
METHOD:PUBLISH
X-PUBLISHED-TTL:P3D
REFRESH-INTERVAL:P3D
CALSCALE:GREGORIAN
BEGIN:VEVENT
DTSTART;VALUE=DATE:20200430
DTEND;VALUE=DATE:20200501
TRANSP:TRANSPARENT
X-MICROSOFT-CDO-ALLDAYEVENT:TRUE
SUMMARY:Dining Out For Life
DESCRIPTION:On Thursday\, April 30\, 2020\, join us at one of 250+ participating businesses for Project Angel Heart's 26th annual Dining Out For Life  event. Twenty-five percent of your bill will be donated to help Project Angel Heart prepare and deliver medically tailored meals to our clients living with HIV/AIDS.
X-ALT-DESC;FMTTYPE=text/html:On Thursday\, April 30\, 2020\, join us at one of 250+ participating businesses for Project Angel Heart&rsquo\;s 26th annual Dining Out For Life&reg\; event. Twenty-five percent of your bill will be donated to help Project Angel Heart prepare and deliver medically tailored meals to our clients living with HIV/AIDS.
LOCATION:Denver-Boulder metro area
UID:e.2492.5745
SEQUENCE:3
DTSTAMP:20260421T153246Z
URL:https://business.colgbtqcc.org/events/details/dining-out-for-life-04-30-2020-5745
END:VEVENT

END:VCALENDAR
