BEGIN:VCALENDAR
VERSION:2.0
PRODID:-//ChamberMaster//Event Calendar 2.0//EN
METHOD:PUBLISH
X-PUBLISHED-TTL:P3D
REFRESH-INTERVAL:P3D
CALSCALE:GREGORIAN
BEGIN:VEVENT
DTSTART:20210911T000000Z
DTEND:20210911T030000Z
X-MICROSOFT-CDO-ALLDAYEVENT:FALSE
SUMMARY:Drag Eye for the Straight Guy
DESCRIPTION:Don't miss this one-of-a-kind community event! The 3rd annual Drag Eye for the Straight Guy drag competition will transform four straight male contestants into drag divas for the first time ever\, as they compete for the title of "Miss Bear to Make a Difference." In addition to raising critical funds for the Matthew Shepard Foundation\, guests will witness the amazing transformation of Dennis Shepard into his drag alter-ego "Pearly White." We also welcome back special guest emcee Nuclia Waste and for the first time DJ Blaque Gurl.
X-ALT-DESC;FMTTYPE=text/html:Don&rsquo\;t miss this one-of-a-kind community event! The 3rd annual Drag Eye for the Straight Guy drag competition will transform four straight male contestants into drag divas for the first time ever\, as they compete for the title of &ldquo\;Miss Bear to Make a Difference.&rdquo\; In addition to raising critical funds for the Matthew Shepard Foundation\, guests will witness the amazing transformation of Dennis Shepard into his drag alter-ego &ldquo\;Pearly White.&rdquo\; We also welcome back special guest emcee Nuclia Waste and for the first time DJ Blaque Gurl.
LOCATION:Tracks Denver\, 3500 Walnut St.
UID:e.2492.5958
SEQUENCE:3
DTSTAMP:20260420T121217Z
URL:https://business.colgbtqcc.org/events/details/drag-eye-for-the-straight-guy-5958
END:VEVENT

END:VCALENDAR
