BEGIN:VCALENDAR
VERSION:2.0
PRODID:-//ChamberMaster//Event Calendar 2.0//EN
METHOD:PUBLISH
X-PUBLISHED-TTL:P3D
REFRESH-INTERVAL:P3D
CALSCALE:GREGORIAN
BEGIN:VEVENT
DTSTART:20210709T180000Z
DTEND:20210709T190000Z
X-MICROSOFT-CDO-ALLDAYEVENT:FALSE
SUMMARY:Government Affairs with the COLGBTQ Chamber of Commerce
DESCRIPTION:Anyone interested in public policy and fighting for the greater good should join us for our monthly Government Affairs meeting 12:00-1:00 pm\, Every 2nd Friday of every month.  We will be discussing what's happening in the state legislature\, as well as other levels of government\, impacting the LGBTQ+ business community\, and how we\, as a group\, can further protect and advance our interests.
X-ALT-DESC;FMTTYPE=text/html:<span style="caret-color: rgb(0\, 0\, 0)\; color: rgb(0\, 0\, 0)\; font-size: medium\;">Anyone interested in public policy and fighting for the greater good</span><span style="caret-color: rgb(0\, 0\, 0)\; color: rgb(0\, 0\, 0)\; font-size: medium\;">&nbsp\;should join us for our monthly Government Affairs meeting 12:00-1:00 pm\, Every 2nd&nbsp\;</span><font color="#000000" size="3"><span style="caret-color: rgb(0\, 0\, 0)\;">Friday of every month.&nbsp\; We will be discussing what&#39\;s happening in the</span></font><span style="caret-color: rgb(0\, 0\, 0)\; color: rgb(0\, 0\, 0)\; font-size: medium\;">&nbsp\;state legislature\, as well as other levels of government\, impacting the</span><span style="caret-color: rgb(0\, 0\, 0)\; color: rgb(0\, 0\, 0)\; font-size: medium\;">&nbsp\;LGBTQ+ business community\, and how we\, as a group\, can further protect and</span><span style="caret-color: rgb(0\, 0\, 0)\; color: rgb(0\, 0\, 0)\;">&nbsp\;</span><span style="caret-color: rgb(0\, 0\, 0)\; color: rgb(0\, 0\, 0)\; font-size: medium\;">advance our interests.</span>
LOCATION:Join us via zoom by registering for our event!
UID:e.2492.5907
SEQUENCE:3
DTSTAMP:20260420T152103Z
URL:https://business.colgbtqcc.org/events/details/government-affairs-with-the-colgbtq-chamber-of-commerce-07-09-2021-5907
END:VEVENT

END:VCALENDAR
