BEGIN:VCALENDAR
VERSION:2.0
PRODID:-//ChamberMaster//Event Calendar 2.0//EN
METHOD:PUBLISH
X-PUBLISHED-TTL:P3D
REFRESH-INTERVAL:P3D
CALSCALE:GREGORIAN
BEGIN:VEVENT
DTSTART:20210108T190000Z
DTEND:20210108T200000Z
X-MICROSOFT-CDO-ALLDAYEVENT:FALSE
SUMMARY:Government Affairs with the COLGBTQ Chamber of Commerce
DESCRIPTION:Anyone interested in public policy and fighting for the greater good should join us for our monthly Government Affairs meeting 12:00-1:00 pm\, Every 2nd Friday of every month.  We will be discussing what's happening in the state legislature\, as well as other levels of government\, impacting the LGBTQ+ business community\, and how we\, as a group\, can further protect and advance our interests.
X-ALT-DESC;FMTTYPE=text/html:<span style="caret-color: rgb(0\, 0\, 0)\; color: rgb(0\, 0\, 0)\; font-size: medium\;">Anyone interested in public policy and fighting for the greater good</span><span style="caret-color: rgb(0\, 0\, 0)\; color: rgb(0\, 0\, 0)\; font-size: medium\;">&nbsp\;should join us for our monthly Government Affairs meeting 12:00-1:00 pm\, Every 2nd&nbsp\;</span><font color="#000000" size="3"><span style="caret-color: rgb(0\, 0\, 0)\;">Friday of every month.&nbsp\; We will be discussing what&#39\;s happening in the</span></font><span style="caret-color: rgb(0\, 0\, 0)\; color: rgb(0\, 0\, 0)\; font-size: medium\;">&nbsp\;state legislature\, as well as other levels of government\, impacting the</span><span style="caret-color: rgb(0\, 0\, 0)\; color: rgb(0\, 0\, 0)\; font-size: medium\;">&nbsp\;LGBTQ+ business community\, and how we\, as a group\, can further protect and</span><span style="caret-color: rgb(0\, 0\, 0)\; color: rgb(0\, 0\, 0)\;">&nbsp\;</span><span style="caret-color: rgb(0\, 0\, 0)\; color: rgb(0\, 0\, 0)\; font-size: medium\;">advance our interests.</span>
LOCATION:Colorado LGBTQ Chamber is inviting you to a scheduled Zoom meeting. Topic: COLGBTQ Government Affairs Committee Meeting Time: Jan 8\, 2021 12:00 PM Mountain Time (US and Canada) Join Zoom Meeting https://zoom.us/j/7209004522 Meeting ID: 720 900 4522 One tap mobile +16699006833\,\,7209004522# US (San Jose) +12532158782\,\,7209004522# US (Tacoma) Dial by your location +1 669 900 6833 US (San Jose) +1 253 215 8782 US (Tacoma) +1 346 248 7799 US (Houston) +1 929 205 6099 US (New York) +1 301 715 8592 US (Washington D.C) +1 312 626 6799 US (Chicago) Meeting ID: 720 900 4522 Find your local number: https://zoom.us/u/aeFlk189RI
UID:e.2492.5889
SEQUENCE:3
DTSTAMP:20260421T023203Z
URL:https://business.colgbtqcc.org/events/details/government-affairs-with-the-colgbtq-chamber-of-commerce-5889
END:VEVENT

END:VCALENDAR
