BEGIN:VCALENDAR
VERSION:2.0
PRODID:-//ChamberMaster//Event Calendar 2.0//EN
METHOD:PUBLISH
X-PUBLISHED-TTL:P3D
REFRESH-INTERVAL:P3D
CALSCALE:GREGORIAN
BEGIN:VEVENT
DTSTART:20220224T170000Z
DTEND:20220224T180000Z
X-MICROSOFT-CDO-ALLDAYEVENT:FALSE
SUMMARY:Grow with Google: Make Your Website Work for You
DESCRIPTION:Learn how to create a search-friendly website that drives user action and supports your goals. In this webinar we'll cover:\n\n \n\n	What type of design works best for your organization\n	How to create a website that drives toward your business goals\n	How to make your website more search-friendly on Google.\n\n \n\nWe'll also introduce you to free Google tools that can all help you improve the likelihood that your ideal customer will find your website on Google.\n\n \n\nLed by Pamela Starr\, a professional trainer for Grow with Google\, this is a presentation anyone who uses a website to grow their organization should attend.
X-ALT-DESC;FMTTYPE=text/html:<span style="color:black\;"><span style="font-family:arial\,sans-serif\;"><span style="font-size:12.0pt\;">Learn how to create a search-friendly website that drives user action and supports your goals. In this webinar we&#39\;ll cover:</span></span></span><br />\n&nbsp\;\n<ul>\n	<li role="presentation" style="margin-top:0in\;margin-right:0in\;margin-bottom:0in\;vertical-align:baseline\;"><span style="color:black\;"><span style="font-family:arial\,sans-serif\;"><span style="font-size:12.0pt\;">What type of design works best for your organization</span></span></span></li>\n	<li role="presentation" style="margin-top:0in\;margin-right:0in\;margin-bottom:0in\;vertical-align:baseline\;"><span style="color:black\;"><span style="font-family:arial\,sans-serif\;"><span style="font-size:12.0pt\;">How to create a website that drives toward your business goals</span></span></span></li>\n	<li role="presentation" style="margin-top:0in\;margin-right:0in\;margin-bottom:0in\;vertical-align:baseline\;"><span style="color:black\;"><span style="font-family:arial\,sans-serif\;"><span style="font-size:12.0pt\;">How to make your website more search-friendly on Google.</span></span></span></li>\n</ul>\n&nbsp\;<br />\n<span style="color:black\;"><span style="font-family:arial\,sans-serif\;"><span style="font-size:12.0pt\;">We&#39\;ll also introduce you to free Google tools that can all help you improve the likelihood that your ideal customer will find your website on Google.</span></span></span><br />\n&nbsp\;<br />\n<span style="color:black\;"><span style="font-family:arial\,sans-serif\;"><span style="font-size:12.0pt\;">Led by Pamela Starr\, a professional trainer for Grow with Google\, this is a presentation anyone who uses a website to grow their organization should attend.</span></span></span><br />\n&nbsp\;
LOCATION:Webinar
UID:e.2492.5977
SEQUENCE:3
DTSTAMP:20260420T053037Z
URL:https://business.colgbtqcc.org/events/details/grow-with-google-make-your-website-work-for-you-5977
END:VEVENT

END:VCALENDAR
