BEGIN:VCALENDAR
VERSION:2.0
PRODID:-//ChamberMaster//Event Calendar 2.0//EN
METHOD:PUBLISH
X-PUBLISHED-TTL:P3D
REFRESH-INTERVAL:P3D
CALSCALE:GREGORIAN
BEGIN:VEVENT
DTSTART:20211010T000000Z
DTEND:20211010T040000Z
X-MICROSOFT-CDO-ALLDAYEVENT:FALSE
SUMMARY:Matthew Shepard Foundation Gala 2021
DESCRIPTION:Join the Matthew Shepard Foundation for our annual gala to celebrate individuals and organizations for their leadership and commitment to replacing hate with understanding\, compassion\, and acceptance. Hybrid Event: In-Person & Virtual attendee options
X-ALT-DESC;FMTTYPE=text/html:Join the Matthew Shepard Foundation for our annual gala to celebrate individuals and organizations for their leadership and commitment to replacing hate with understanding\, compassion\, and acceptance. Hybrid Event: In-Person &amp\; Virtual attendee options
LOCATION:Hilton Denver City Center\, 1701 California St.\, Denver
UID:e.2492.5959
SEQUENCE:3
DTSTAMP:20260420T103858Z
URL:https://business.colgbtqcc.org/events/details/matthew-shepard-foundation-gala-2021-5959
END:VEVENT

END:VCALENDAR
