BEGIN:VCALENDAR
VERSION:2.0
PRODID:-//ChamberMaster//Event Calendar 2.0//EN
METHOD:PUBLISH
X-PUBLISHED-TTL:P3D
REFRESH-INTERVAL:P3D
CALSCALE:GREGORIAN
BEGIN:VEVENT
DTSTART:20201008T180000Z
DTEND:20201008T190000Z
X-MICROSOFT-CDO-ALLDAYEVENT:FALSE
SUMMARY:Meet and Greet: Denver Jewish Chamber of Commerce & COLGBTQ Chamber of Commerce
DESCRIPTION:Join us for an informative meet and greet and networking opportunity.  Learn about each organization's history\, goals and purpose. You will hear from leaders of each chamber and have an opportunity to network across organizations.
X-ALT-DESC;FMTTYPE=text/html:<span style="caret-color: rgb(0\, 0\, 0)\; color: rgb(0\, 0\, 0)\; font-family: Menlo\, Consolas\, &quot\;Lucida Console&quot\;\, &quot\;DejaVu Sans Mono&quot\;\, monospace\; font-size: 12px\;">Join us for an informative meet and greet and networking opportunity.&nbsp\; Learn&nbsp\;</span><span style="caret-color: rgb(0\, 0\, 0)\; color: rgb(0\, 0\, 0)\; font-family: Menlo\, Consolas\, &quot\;Lucida Console&quot\;\, &quot\;DejaVu Sans Mono&quot\;\, monospace\; font-size: 12px\;">about each organization&#39\;s history\, goals and purpose. You will hear from&nbsp\;</span><span style="caret-color: rgb(0\, 0\, 0)\; color: rgb(0\, 0\, 0)\; font-family: Menlo\, Consolas\, &quot\;Lucida Console&quot\;\, &quot\;DejaVu Sans Mono&quot\;\, monospace\; font-size: 12px\;">leaders of each chamber and have an opportunity to network across&nbsp\;</span><span style="caret-color: rgb(0\, 0\, 0)\; color: rgb(0\, 0\, 0)\; font-family: Menlo\, Consolas\, &quot\;Lucida Console&quot\;\, &quot\;DejaVu Sans Mono&quot\;\, monospace\; font-size: 12px\;">organizations.</span>
LOCATION:Via Zoom Topic: Meet and Greet- COLGBTQ Partnership with Jewish Chamber Time: Oct 8\, 2020 12:00 PM Mountain Time (US and Canada) Join Zoom Meeting https://zoom.us/j/7209004522 Meeting ID: 720 900 4522
UID:e.2492.5828
SEQUENCE:3
DTSTAMP:20260421T060451Z
URL:https://business.colgbtqcc.org/events/details/meet-and-greet-denver-jewish-chamber-of-commerce-colgbtq-chamber-of-commerce-5828
END:VEVENT

END:VCALENDAR
