BEGIN:VCALENDAR
VERSION:2.0
PRODID:-//ChamberMaster//Event Calendar 2.0//EN
METHOD:PUBLISH
X-PUBLISHED-TTL:P3D
REFRESH-INTERVAL:P3D
CALSCALE:GREGORIAN
BEGIN:VEVENT
DTSTART:20150827T233000Z
DTEND:20150828T020000Z
X-MICROSOFT-CDO-ALLDAYEVENT:FALSE
SUMMARY:Member Appreciation Party: Hosted by DGLCC!
DESCRIPTION:Our Annual Event to celebrate YOU!  Come join us at Hamburger Mary's for great food and fun networking. We?re looking forward to seeing you all there!
X-ALT-DESC;FMTTYPE=text/html:<p style="margin: 0px\; padding: 0px 0px 10px\; border: 0px\; outline: 0px\; font-size: 16px\; vertical-align: baseline\; line-height: 26px\; color: rgb(135\, 135\, 135)\; font-family: 'Droid Sans'\, Helvetica\, Arial\, Lucida\, sans-serif\; background-image: initial\; background-attachment: initial\; background-size: initial\; background-origin: initial\; background-clip: initial\; background-position: initial\; background-repeat: initial\;">Our Annual Event to celebrate YOU! &nbsp\;Come join us at Hamburger Mary&#39\;s for great food and fun networking. We?re looking forward to seeing you all there!</p>\n\n<p style="margin: 0px\; padding: 0px 0px 10px\; border: 0px\; outline: 0px\; font-size: 16px\; vertical-align: baseline\; line-height: 26px\; color: rgb(135\, 135\, 135)\; font-family: 'Droid Sans'\, Helvetica\, Arial\, Lucida\, sans-serif\; background-image: initial\; background-attachment: initial\; background-size: initial\; background-origin: initial\; background-clip: initial\; background-position: initial\; background-repeat: initial\;">&nbsp\;</p>\n
LOCATION:Out back on the legendary Mary's Patio. If the weather gets wet we will move inside to Club M.
UID:e.2492.1391
SEQUENCE:3
DTSTAMP:20260422T192733Z
URL:https://business.colgbtqcc.org/events/details/member-appreciation-party-hosted-by-dglcc-08-27-2015-1391
END:VEVENT

END:VCALENDAR
