BEGIN:VCALENDAR
VERSION:2.0
PRODID:-//ChamberMaster//Event Calendar 2.0//EN
METHOD:PUBLISH
X-PUBLISHED-TTL:P3D
REFRESH-INTERVAL:P3D
CALSCALE:GREGORIAN
BEGIN:VEVENT
DTSTART:20210304T150000Z
DTEND:20210304T163000Z
X-MICROSOFT-CDO-ALLDAYEVENT:FALSE
SUMMARY:Monthly Breakfast Series: Tax Session
DESCRIPTION:Please join us on the first Thursday of every month for our Continuing Education Monthly Breakfast Series. \n\n\n\n\nThe Monthly Breakfast is designed to bring impactful information of a non-sales nature to the members of the chamber.  We hope the presentation will be a complete presentation in such that each attendee can walk away gaining insightful information or skills that can be utilized right away.\n\n\n\nPlease join us for the tax workshop that will cover questions that every business owner and person must answer before the end of the year\, as well as review aspects of the recently passed\, CARES act that may help you and your business!\n\nPresenter Koren serves as the Vice President and Branch Manager in the Denver\, Colorado office of Cetera Investors and has 19 years of experience helping business owners and individuals with financial planning. \n\nIn addition to her role with Cetera\, she is a board member of the Mountain Pacific Association of Colleges and Employers (MPACE) and is also has been a member and sponsor of the Colorado LGBTQ Chamber of Commerce for a number of years. \n\nOutside of her office and volunteer responsibilities\, she enjoys reading\, traveling\, and boating with her husband Michael and two sons\, Max and Colton.
X-ALT-DESC;FMTTYPE=text/html:Please join us on the first Thursday of every month for our Continuing Education Monthly Breakfast Series.&nbsp\;\n<div class="page" style="caret-color: rgb(0\, 0\, 0)\; color: rgb(0\, 0\, 0)\;" title="Page 1">\n<div class="section">\n<div class="layoutArea">\n<div class="column">\n<p>The Monthly Breakfast is designed to bring impactful information of a non-sales nature to the members of the chamber.&nbsp\;&nbsp\;We hope the presentation will be a complete presentation in such that each&nbsp\;attendee can&nbsp\;walk away gaining insightful information or skills that can be&nbsp\;utilized right away.<br />\n<br />\n<span style="color:#000000\;">Please join us for the tax workshop that will cover questions that every business owner and person must answer before the end of the year\, as well as review aspects of the recently passed\, CARES act that may help you and your business!</span></p>\n\n<div class="o9v6fnle cxmmr5t8 oygrvhab hcukyx3x c1et5uql" style="word-wrap: break-word\; margin: 0.5em 0px 0px\; font-family: system-ui\, -apple-system\, BlinkMacSystemFont\, &quot\;.SFNSText-Regular&quot\;\, sans-serif\; caret-color: rgb(228\, 230\, 235)\; color: rgb(228\, 230\, 235)\; font-size: 15px\;"><span style="color:#000000\;">Presenter Koren serves as the Vice President and Branch Manager in the Denver\, Colorado office of Cetera Investors and has 19 years of experience helping business owners and individuals with financial planning.&nbsp\;</span></div>\n\n<div class="o9v6fnle cxmmr5t8 oygrvhab hcukyx3x c1et5uql" style="word-wrap: break-word\; margin: 0.5em 0px 0px\; font-family: system-ui\, -apple-system\, BlinkMacSystemFont\, &quot\;.SFNSText-Regular&quot\;\, sans-serif\; caret-color: rgb(228\, 230\, 235)\; color: rgb(228\, 230\, 235)\; font-size: 15px\;"><span style="color:#000000\;">In addition to her role with Cetera\, she is a board member of the Mountain Pacific Association of Colleges and Employers (MPACE) and is also has been a member and sponsor of the Colorado LGBTQ Chamber of Commerce for a number of years.&nbsp\;</span></div>\n\n<div class="o9v6fnle cxmmr5t8 oygrvhab hcukyx3x c1et5uql" style="word-wrap: break-word\; margin: 0.5em 0px 0px\; font-family: system-ui\, -apple-system\, BlinkMacSystemFont\, &quot\;.SFNSText-Regular&quot\;\, sans-serif\; caret-color: rgb(228\, 230\, 235)\; color: rgb(228\, 230\, 235)\; font-size: 15px\;"><span style="color:#000000\;">Outside of her office and volunteer responsibilities\, she enjoys reading\, traveling\, and boating with her husband Michael and two sons\, Max and Colton.</span></div>\n</div>\n</div>\n</div>\n</div>\n
LOCATION:Due to current state restrictions please join us on zoom by calling into zoom idwww.zoom.us/j/7209004522
UID:e.2492.5874
SEQUENCE:3
DTSTAMP:20260420T211603Z
URL:https://business.colgbtqcc.org/events/details/monthly-breakfast-series-03-04-2021-5874
END:VEVENT

END:VCALENDAR
