BEGIN:VCALENDAR
VERSION:2.0
PRODID:-//ChamberMaster//Event Calendar 2.0//EN
METHOD:PUBLISH
X-PUBLISHED-TTL:P3D
REFRESH-INTERVAL:P3D
CALSCALE:GREGORIAN
BEGIN:VEVENT
DTSTART:20210506T140000Z
DTEND:20210506T153000Z
X-MICROSOFT-CDO-ALLDAYEVENT:FALSE
SUMMARY:Monthly Breakfast Series: Business License and Process\; How to Insure a Smooth Process.
DESCRIPTION:Please join us on the first Thursday of every month for our Continuing Education Monthly Breakfast Series. \n\n\n\n\nThe Monthly Breakfast is designed to bring impactful information of a non-sales nature to the members of the chamber.  We hope the presentation will be a complete presentation in such that each attendee can walk away gaining insightful information or skills that can be utilized right away.\n\n\n\nSilvia Huffman has been with the City of Fountain for 22 years. Her starting position was a temporary receptionist in 1999. She is now the City Clerk and Park & Recreation Director. In her position of the City Clerk\, she oversees business licenses\, liquor licenses\, elections\, and tries to wrestle City Council. Changing her hat to the Park and Recreation Director she is involved in numerous large park projects and recreation growth. She is a Colorado native and has 4 sons and 2 granddaughters. She is happily married to a business development entrepreneur and consistently gives him unsolicited advice. Her mantra is "just listen" she believes that most knowledge comes from surrounding yourself with those smarter than you and to listen. She accomplished completing a degree in Public Administration this last November.
X-ALT-DESC;FMTTYPE=text/html:<br />\n<span style="font-size:12px\;"><span style="font-family:arial\;">Please join us on the first Thursday of every month for our Continuing Education Monthly Breakfast Series.&nbsp\;</span></span>\n<div class="page" style="caret-color: rgb(0\, 0\, 0)\; color: rgb(0\, 0\, 0)\;" title="Page 1">\n<div class="section">\n<div class="layoutArea">\n<div class="column">\n<p><span style="font-size:12px\;"><span style="font-family:arial\;">The Monthly Breakfast is designed to bring impactful information of a non-sales nature to the members of the chamber.&nbsp\;&nbsp\;We hope the presentation will be a complete presentation in such that each&nbsp\;attendee can&nbsp\;walk away gaining insightful information or skills that can be&nbsp\;utilized right away.<br />\n<br />\n<span data-sheets-userformat="{&quot\;2&quot\;:342785\,&quot\;3&quot\;:{&quot\;1&quot\;:0}\,&quot\;11&quot\;:4\,&quot\;12&quot\;:0\,&quot\;14&quot\;:{&quot\;1&quot\;:2\,&quot\;2&quot\;:0}\,&quot\;15&quot\;:&quot\;Arial&quot\;\,&quot\;16&quot\;:14\,&quot\;19&quot\;:0\,&quot\;21&quot\;:0}" data-sheets-value="{&quot\;1&quot\;:2\,&quot\;2&quot\;:&quot\;Silvia Huffman has been with the City of Fountain for 22 years. Her starting position was a temporary receptionist in 1999. She is now the City Clerk and Park &amp\;amp\; Recreation Director. In her position of the City Clerk\, she oversees business licenses\, liquor licenses\, elections\, and tries to wrestle City Council. Changing her hat to the Park and Recreation Director she is involved in numerous large park projects and recreation growth. She is a Colorado native and has 4 sons and 2 granddaughters. She is happily married to a business development entrepreneur and consistently gives him unsolicited advice. Her mantra is ?just listen? she believes that most knowledge comes from surrounding yourself with those smarter than you and to listen. She accomplished completing a degree in Public Administration this last November.&quot\;}" style="color: rgb(0\, 0\, 0)\;">Silvia Huffman has been with the City of Fountain for 22 years. Her starting position was a temporary receptionist in 1999. She is now the City Clerk and Park &amp\;&nbsp\;Recreation Director. In her position of the City Clerk\, she oversees business licenses\, liquor licenses\, elections\, and tries to wrestle City Council. Changing her hat to the Park and Recreation Director she is involved in numerous large park projects and recreation growth. She is a Colorado native and has 4 sons and 2 granddaughters. She is happily married to a business development entrepreneur and consistently gives him unsolicited advice. Her mantra is &ldquo\;just listen&rdquo\; she believes that most knowledge comes from surrounding yourself with those smarter than you and to listen. She accomplished completing a degree in Public Administration this last November.</span></span></span></p>\n</div>\n</div>\n</div>\n</div>\n
LOCATION:https://zoom.us/j/7209004522 Passcode: chamber
UID:e.2492.5876
SEQUENCE:3
DTSTAMP:20260420T181433Z
URL:https://business.colgbtqcc.org/events/details/monthly-breakfast-series-business-license-and-process-how-to-insure-a-smooth-process-5876
END:VEVENT

END:VCALENDAR
