BEGIN:VCALENDAR
VERSION:2.0
PRODID:-//ChamberMaster//Event Calendar 2.0//EN
METHOD:PUBLISH
X-PUBLISHED-TTL:P3D
REFRESH-INTERVAL:P3D
CALSCALE:GREGORIAN
BEGIN:VEVENT
DTSTART:20151001T133000Z
DTEND:20151001T150000Z
X-MICROSOFT-CDO-ALLDAYEVENT:FALSE
SUMMARY:Monthly Breakfast Series hosted by DoubleTree by Hilton Denver
DESCRIPTION:Please join us for our Monthly Breakfast Series.  We bring in dynamic speakers to present timely information to our members about topics that matter to YOU!  Breakfast is included in the registration cost.
X-ALT-DESC;FMTTYPE=text/html:&nbsp\;<br />\n<br />\n<br />\n<br />\n<br />\n<br />\n<br />\nPlease&nbsp\;join us for our Monthly Breakfast Series. &nbsp\;We bring in dynamic speakers to present timely information to our members about topics that matter to YOU! &nbsp\;Breakfast is included in the registration cost.<br />\n&nbsp\;
LOCATION:DoubleTree By Hilton Denver 3203 Quebec Street Denver\, CO 80207
UID:e.2492.1911
SEQUENCE:3
DTSTAMP:20260424T082424Z
URL:https://business.colgbtqcc.org/events/details/monthly-breakfast-series-hosted-by-doubletree-by-hilton-denver-10-01-2015-1911
END:VEVENT

END:VCALENDAR
