BEGIN:VCALENDAR
VERSION:2.0
PRODID:-//ChamberMaster//Event Calendar 2.0//EN
METHOD:PUBLISH
X-PUBLISHED-TTL:P3D
REFRESH-INTERVAL:P3D
CALSCALE:GREGORIAN
BEGIN:VEVENT
DTSTART:20201203T150000Z
DTEND:20201203T163000Z
X-MICROSOFT-CDO-ALLDAYEVENT:FALSE
SUMMARY:Monthly Breakfast Series: Inclusion In the Work Place with Leon Cerna
DESCRIPTION:Please join us on the first Thursday of every month for our Continuing Education Monthly Breakfast Series. \n\n\n\n\n\n\n\n \n\nTeri Karjala\, is a Transformational Life Strategist\, the founder of Creative Counseling Center and Talking With Teri\, best-selling author of Be The Magic of You: Tools to Transform Your Life with a foreword written by Jack Canfield. She is Premier Success Coach with eWomen Network and a Coach with Forbes. She has been featured a many television\, podcasts\, and radio shows\, including Hay House. \n\nTeri is a thought leader in female empowerment and entrepreneurship. Today\, professionals and women entrepreneurs hire her to ignite the magic within. Because most are consumed by fear\, held back by unconscious limiting beliefs\, and lack the tools to get back on track. \n\nTeri has combined her counseling background with energy psychology and applied the principles of quantum physics to transform people's lives by clearing the unconscious blocks that hold us back. The result of combining these techniques is astonishing!\n\nPlease welcome Teri Karjala (Car-Ju-La) to the stage!
X-ALT-DESC;FMTTYPE=text/html:Please join us on the first Thursday of every month for our Continuing Education Monthly Breakfast Series.&nbsp\;\n<div class="page" style="caret-color: rgb(0\, 0\, 0)\; color: rgb(0\, 0\, 0)\;" title="Page 1">\n<div class="section">\n<div class="layoutArea">\n<div class="column">\n<div class="page" style="caret-color: rgb(0\, 0\, 0)\; color: rgb(0\, 0\, 0)\;" title="Page 1">\n<div class="layoutArea">\n<div class="column">\n<p>&nbsp\;</p>\n\n<p style="margin: 0px 0px 8px\; font-stretch: normal\; font-size: 16px\; line-height: normal\; font-family: &quot\;Century Gothic&quot\;\; color: rgb(57\, 53\, 32)\;">Teri Karjala\, is a Transformational Life Strategist\, the founder of Creative Counseling Center and Talking With Teri\, best-selling author of Be The Magic of You: Tools to Transform Your Life with a foreword written by Jack Canfield. She is Premier Success Coach with eWomen Network and a Coach with Forbes. She has been featured a many television\, podcasts\, and radio shows\, including Hay House.&nbsp\;</p>\n\n<p style="margin: 0px 0px 8px\; font-stretch: normal\; font-size: 16px\; line-height: normal\; font-family: &quot\;Century Gothic&quot\;\; color: rgb(57\, 53\, 32)\;">Teri is a thought leader in female empowerment and entrepreneurship. Today\, professionals and women entrepreneurs hire her to ignite the magic within. Because most are consumed by fear\, held back by unconscious limiting beliefs\, and lack the tools to get back on track.&nbsp\;</p>\n\n<p style="margin: 0px 0px 8px\; font-stretch: normal\; font-size: 16px\; line-height: normal\; font-family: &quot\;Century Gothic&quot\;\; color: rgb(57\, 53\, 32)\;">Teri has combined her counseling background with energy psychology and applied the principles of quantum physics to transform people&rsquo\;s lives by clearing the unconscious blocks that hold us back. The result of combining these techniques is astonishing!</p>\n\n<p style="margin: 0px 0px 5px\; font-stretch: normal\; font-size: 16px\; line-height: normal\; font-family: &quot\;Century Gothic&quot\;\; color: rgb(57\, 53\, 32)\;">Please welcome Teri Karjala (Car-Ju-La) to the stage!&nbsp\;&nbsp\; &nbsp\;</p>\n</div>\n</div>\n</div>\n</div>\n</div>\n</div>\n</div>\n
LOCATION:Due to current state restrictions please join us on zoom by calling into zoom idwww.zoom.us/j/7209004522
UID:e.2492.5871
SEQUENCE:3
DTSTAMP:20260421T042404Z
URL:https://business.colgbtqcc.org/events/details/monthly-breakfast-series-inclusion-in-the-work-place-with-leon-cerna-5871
END:VEVENT

END:VCALENDAR
