BEGIN:VCALENDAR
VERSION:2.0
PRODID:-//ChamberMaster//Event Calendar 2.0//EN
METHOD:PUBLISH
X-PUBLISHED-TTL:P3D
REFRESH-INTERVAL:P3D
CALSCALE:GREGORIAN
BEGIN:VEVENT
DTSTART:20250724T233000Z
DTEND:20250725T013000Z
X-MICROSOFT-CDO-ALLDAYEVENT:FALSE
SUMMARY:Out in Business Networking: Hosted by Frisbie Financial & Ms. Marji's
DESCRIPTION:Come to Out in Business Networking for great food and networking. We're looking forward to seeing you all there!\n\nThe fourth Thursday of the month\, excluding November and December\, Out in Business Networking events are held at member locations in the local community. Members meet to network and connect with one another\, get updated on CoLGBTCC affairs and calendar\, obtain information about the hosts and share food and drinks. Out in Business Networking events are no cost to members and their guests.
X-ALT-DESC;FMTTYPE=text/html:<p style="margin: 0px\; padding: 0px 0px 10px\; border: 0px\; outline: 0px\; font-size: 16px\; vertical-align: baseline\; line-height: 26px\; color: rgb(135\, 135\, 135)\; font-family: &quot\;Droid Sans&quot\;\, Helvetica\, Arial\, Lucida\, sans-serif\; background-image: initial\; background-attachment: initial\; background-size: initial\; background-origin: initial\; background-clip: initial\; background-position: initial\; background-repeat: initial\;">Come to&nbsp\;<span style="margin: 0px\; padding: 0px\; border: 0px\; outline: 0px\; vertical-align: baseline\; color: rgb(0\, 0\, 0)\; background: transparent\;">Out in Business Networking&nbsp\;</span>for great food and networking. We&rsquo\;re looking forward to seeing you all there!</p>\n\n<p style="margin: 0px\; padding: 0px 0px 10px\; border: 0px\; outline: 0px\; font-size: 16px\; vertical-align: baseline\; line-height: 26px\; color: rgb(135\, 135\, 135)\; font-family: &quot\;Droid Sans&quot\;\, Helvetica\, Arial\, Lucida\, sans-serif\; background-image: initial\; background-attachment: initial\; background-size: initial\; background-origin: initial\; background-clip: initial\; background-position: initial\; background-repeat: initial\;"><span style="color: rgb(0\, 0\, 0)\;"><span style="margin: 0px\; padding: 0px\; border: 0px\; outline: 0px\; vertical-align: baseline\; background: transparent\;">The fourth&nbsp\;Thursday of the month\, excluding November and&nbsp\;December\, Out in Business Networking events are&nbsp\;held at member locations in the local community. Members meet to network and connect with one another\, get updated on&nbsp\;</span>CoLGBTCC&nbsp\;<span style="margin: 0px\; padding: 0px\; border: 0px\; outline: 0px\; vertical-align: baseline\; background: transparent\;">affairs and calendar\, obtain information about the hosts and share food and drinks. Out in Business Networking&nbsp\;events are no cost to members and their guests.</span></span></p>\n
LOCATION:Ms. Marji's 1640 N Logan St Denver\, CO 80203
UID:e.2492.3719
SEQUENCE:3
DTSTAMP:20260419T170356Z
URL:https://business.colgbtqcc.org/events/details/out-in-business-networking-hosted-by-frisbie-financial-ms-marji-s-3719
END:VEVENT

END:VCALENDAR
