BEGIN:VCALENDAR
VERSION:2.0
PRODID:-//ChamberMaster//Event Calendar 2.0//EN
METHOD:PUBLISH
X-PUBLISHED-TTL:P3D
REFRESH-INTERVAL:P3D
CALSCALE:GREGORIAN
BEGIN:VEVENT
DTSTART:20200319T233000Z
DTEND:20200320T013000Z
X-MICROSOFT-CDO-ALLDAYEVENT:FALSE
SUMMARY:POSTPONED - BoCo Business-After-Hours: Hosted by Embassy Suites Boulder
DESCRIPTION:This event has been postponed in response to COVID-19 and WILL NOT occur on March 19\, 2020. We are working to reschedule this event later in the year. You are welcome to RSVP and be notified when this event is rescheduled. \n\n\n\np.p1 {margin: 0.0px 0.0px 0.0px 0.0px\; font: 12.0px 'Helvetica Neue'}\np.p2 {margin: 0.0px 0.0px 0.0px 0.0px\; font: 12.0px 'Helvetica Neue'\; min-height: 14.0px}\n\nEnjoy good food and drinks while networking with LGBTQ-owned and LGBTQ-friendly businesses as well as professionals in Boulder County and beyond!
X-ALT-DESC;FMTTYPE=text/html:<strong style="color: rgb(255\, 0\, 0)\; font-size: 14px\;">This event has been postponed in response to COVID-19 and WILL NOT occur on March 19\, 2020. We are working to reschedule this event later in the year. You are welcome to RSVP and be notified when this event is rescheduled.&nbsp\;</strong><br />\n<br />\n<style type="text/css">p.p1 {margin: 0.0px 0.0px 0.0px 0.0px\; font: 12.0px 'Helvetica Neue'}\np.p2 {margin: 0.0px 0.0px 0.0px 0.0px\; font: 12.0px 'Helvetica Neue'\; min-height: 14.0px}\n</style>\n<p class="p1"><span style="font-size:14px\;">Enjoy good food and drinks while networking with LGBTQ-owned and LGBTQ-friendly businesses as well as professionals in Boulder County and beyond!</span></p>\n\n<p class="p2">&nbsp\;</p>\n
LOCATION:p.p1 {margin: 0.0px 0.0px 2.0px 0.0px\; font: 14.0px 'Helvetica Neue'} p.p2 {margin: 0.0px 0.0px 0.0px 0.0px\; font: 12.0px 'Helvetica Neue'} p.p1 {margin: 0.0px 0.0px 0.0px 0.0px\; font: 12.0px 'Helvetica Neue'} Embassy Suites Boulder: 2601 Canyon Blvd\, Boulder\, CO 80302
UID:e.2492.5736
SEQUENCE:3
DTSTAMP:20260419T130641Z
URL:https://business.colgbtqcc.org/events/details/postponed-boco-business-after-hours-hosted-by-embassy-suites-boulder-5736
END:VEVENT

END:VCALENDAR
