BEGIN:VCALENDAR
VERSION:2.0
PRODID:-//ChamberMaster//Event Calendar 2.0//EN
METHOD:PUBLISH
X-PUBLISHED-TTL:P3D
REFRESH-INTERVAL:P3D
CALSCALE:GREGORIAN
BEGIN:VEVENT
DTSTART:20200509T180000Z
DTEND:20200509T190000Z
X-MICROSOFT-CDO-ALLDAYEVENT:FALSE
SUMMARY:Postponed to Later date- Virtual Health Month - Endorphin - Hitt
DESCRIPTION:This is event is now postponed to a later date.  Please email us if your are interested in attendeding this event at a later date. \n\n\n\nThanks again. \n\n\n\nEndorphin Denver is excitied to bring you-\n\nHIIT\, or high-intensity interval training\, is a training technique in which you give all-out\, one hundred percent effort through quick\, intense bursts of exercise\, followed by short\, sometimes active\, recovery periods. This type of training gets and keeps your heart rate up and burns more fat in less time.
X-ALT-DESC;FMTTYPE=text/html:This is event is now postponed to a later date. &nbsp\;Please email us if your are interested in attendeding this event at a later date.&nbsp\;<br />\n<br />\nThanks again.&nbsp\;<br />\n<br />\nEndorphin Denver is excitied to bring you-<br />\nHIIT\, or high-intensity interval training\, is a training technique in which you give all-out\, one hundred percent effort through quick\, intense bursts of exercise\, followed by short\, sometimes active\, recovery periods. This type of training gets and keeps your heart rate up and burns more fat in less time.
LOCATION:To join in on this event download the zoom app on your phone of laptop and login into zoom room: 7032014234 https://zoom.us/j/7032014234
UID:e.2492.5803
SEQUENCE:3
DTSTAMP:20260421T142024Z
URL:https://business.colgbtqcc.org/events/details/postponed-to-later-date-virtual-health-month-endorphin-hitt-5803
END:VEVENT

END:VCALENDAR
