BEGIN:VCALENDAR
VERSION:2.0
PRODID:-//ChamberMaster//Event Calendar 2.0//EN
METHOD:PUBLISH
X-PUBLISHED-TTL:P3D
REFRESH-INTERVAL:P3D
CALSCALE:GREGORIAN
BEGIN:VEVENT
DTSTART:20200416T183000Z
DTEND:20200416T193000Z
X-MICROSOFT-CDO-ALLDAYEVENT:FALSE
SUMMARY:Q&A With The Colorado Department of Labor and Employment
DESCRIPTION:
X-ALT-DESC;FMTTYPE=text/html:
LOCATION:
UID:e.2492.5806
SEQUENCE:3
DTSTAMP:20260421T171248Z
URL:https://business.colgbtqcc.org/events/details/q-a-with-the-colorado-department-of-labor-and-employment-5806
END:VEVENT

END:VCALENDAR
