BEGIN:VCALENDAR
VERSION:2.0
PRODID:-//ChamberMaster//Event Calendar 2.0//EN
METHOD:PUBLISH
X-PUBLISHED-TTL:P3D
REFRESH-INTERVAL:P3D
CALSCALE:GREGORIAN
BEGIN:VEVENT
DTSTART:20200512T180000Z
DTEND:20200512T190000Z
X-MICROSOFT-CDO-ALLDAYEVENT:FALSE
SUMMARY:Small Business Briefing & Discussion with Governor Polis
DESCRIPTION:On Tuesday\, 5/12 at noon\, Good Business Colorado is hosting a 30 minute briefing and discussion with Governor Polis. This virtual discussion is uniquely available to Colorado small businesses focused on COVID-19 recovery. This small business briefing will be focused on "Phase 2" best practices\, re-opening guidance for small businesses\, and statewide response. The Governor will provide a few minutes of introductory remarks and then the session will include moderated Q&A\, with participants asking questions through a chat box. Please register now for your opportunity to connect directly with the Governor regarding COVID-19 recovery efforts and Colorado small businesses.\n\n\n\nCo-sponsoring organizations include: African Chamber of Commerce\, B Local Colorado\, Best for Colorado\, Black Business Initiative\, Center for Community Wealth Building\, Colorado LGBTQ Chamber of Commerce\, Colorado REACH Conference\, Colorado Women's Chamber of Commerce\, Commons on Champa\, Downtown Greeley\, Entrepreneurship for All\, Good Business Colorado\, Latino Chamber of Commerce of Pueblo\, Local First Durango\, Pledge 1% Colorado\, Rocky Mountain Employee Ownership Center\, Rocky Mountain Micro Finance Institute\, Small Business Majority\, Startup Colorado\, The Bell Policy Center\, and Worklife Partnership.
X-ALT-DESC;FMTTYPE=text/html:<h1 class="_5gmx" data-testid="event-permalink-event-name" id="seo_h1_tag" style="color: rgb(29\, 33\, 41)\; font-size: 20px\; margin: 0px 12px 0px 0px\; padding: 0px\; line-height: 28px\; font-family: system-ui\, -apple-system\, BlinkMacSystemFont\, &quot\;.SFNSText-Regular&quot\;\, sans-serif\; caret-color: rgb(29\, 33\, 41)\;"><span style="caret-color: rgb(29\, 33\, 41)\; color: rgb(29\, 33\, 41)\; font-family: system-ui\, -apple-system\, BlinkMacSystemFont\, &quot\;.SFNSText-Regular&quot\;\, sans-serif\; font-size: 14px\; white-space: pre-wrap\;">On Tuesday\, 5/12 at noon\, Good Business Colorado is hosting a 30 minute briefing and discussion with Governor Polis. This virtual discussion is uniquely available to Colorado small businesses focused on COVID-19 recovery. This small business briefing will be focused on &quot\;Phase 2&quot\; best practices\, re-opening guidance for small businesses\, and statewide response. The Governor will provide a few minutes of introductory remarks and then the session will include moderated Q&amp\;A\, with participants asking questions through a chat box. Please register now for your opportunity to connect directly with the Governor regarding COVID-19 recovery efforts and Colorado small businesses.</span><br style="caret-color: rgb(29\, 33\, 41)\; color: rgb(29\, 33\, 41)\; font-family: system-ui\, -apple-system\, BlinkMacSystemFont\, &quot\;.SFNSText-Regular&quot\;\, sans-serif\; font-size: 14px\; white-space: pre-wrap\;" />\n<br style="caret-color: rgb(29\, 33\, 41)\; color: rgb(29\, 33\, 41)\; font-family: system-ui\, -apple-system\, BlinkMacSystemFont\, &quot\;.SFNSText-Regular&quot\;\, sans-serif\; font-size: 14px\; white-space: pre-wrap\;" />\n<span style="caret-color: rgb(29\, 33\, 41)\; color: rgb(29\, 33\, 41)\; font-family: system-ui\, -apple-system\, BlinkMacSystemFont\, &quot\;.SFNSText-Regular&quot\;\, sans-serif\; font-size: 14px\; white-space: pre-wrap\;">Co-sponsoring organizations include: African Chamber of Commerce\, B Local Colorado\, Best for Colorado\, Black Business Initiative\, Center for Community Wealth Building\, Colorado LGBTQ Chamber of Commerce\, Colorado REACH Conference\, Colorado Women&#39\;s Chamber of Commerce\, Commons on Champa\, Downtown Greeley\, Entrepreneurship for All\, Good Business Colorado\, Latino Chamber of Commerce of Pueblo\, Local First Durango\, Pledge 1% Colorado\, Rocky Mountain Employee Ownership Center\, Rocky Mountain Micro Finance Institute\, Small Business Majority\, Startup Colorado\, The Bell Policy Center\, and Worklife Partnership.</span></h1>\n
LOCATION:Virtual with zoomlive. Attendees must register by visiting https://www.eventbrite.com/e/small-business-briefing-and-discussion-with-governor-polis-tickets-104546605712?can_id=3f8a6e595167482db4b7975aa2925fa7&source=email-small-business-briefing-discussion-with-governor-polis&email_subject=small-business-briefing-discussion-with-governor-polis&email_referrer=email_796879&link_id=2
UID:e.2492.5813
SEQUENCE:3
DTSTAMP:20260421T153507Z
URL:https://business.colgbtqcc.org/events/details/small-business-briefing-discussion-with-governor-polis-5813
END:VEVENT

END:VCALENDAR
