BEGIN:VCALENDAR
VERSION:2.0
PRODID:-//ChamberMaster//Event Calendar 2.0//EN
METHOD:PUBLISH
X-PUBLISHED-TTL:P3D
REFRESH-INTERVAL:P3D
CALSCALE:GREGORIAN
BEGIN:VEVENT
DTSTART:20210430T160000Z
DTEND:20210430T170000Z
X-MICROSOFT-CDO-ALLDAYEVENT:FALSE
SUMMARY:Special National Briefing on the U.S. Small BusinessAdministration's (SBA’s) new $28.6 Billion Restaurant Revitalization Fund (RRF
DESCRIPTION:We invite you to a Special Briefing on the U.S. Small Business Administration's (SBA) new $28.6 Billion Restaurant Revitalization Fund (RRF) hosted by the Colorado LGBTQ Chamber of Commerce\, National LGBT Chamber of Commerce (NGLCC)\, and Public Private Strategies Institute. The briefing will be hosted this Friday\, April 30 from 10-11AM ET (7-8AM PT). \n\n \n\nWe are proud to welcome special guests\, SBA Administrator Isabella Casillas Guzman and SBA Associate Administrator in the Office of Entrepreneurial Development Mark Madrid. The SBA helps small business owners and entrepreneurs pursue the American dream and is the only cabinet-level federal agency fully dedicated to small business and provides counseling\, capital\, and contracting expertise as the nation's only go-to resource and voice for small businesses.\n\n \n\nPresident Biden and the SBA are launching the RRF to ensure restaurants get the help they need. In the American Rescue Plan Act\, signed into law on March 11\, 2021\, Congress appropriated $28.6 Billion for the SBA to award relief through the RRF Program until funds are expended. Fund recipients are not required to repay the funding as long as the funds are used for eligible purposes no later than March 11\, 2023. To learn more about the RRF program and application\, please click here. \n\n \n\nYou can register via the attached invitation or at the LINK HERE. \n\n \n\nIf you have any questions\, please contact NGLCC at SBAcall@nglcc.org.\n\n \n\n\n\nRegister with NGLCC here  Webinar Registration - Zoom
X-ALT-DESC;FMTTYPE=text/html:<span style="font-family:trebuchet ms\,sans-serif\;">&nbsp\;We invite you to a <u>Special Briefing on the U.S. Small Business Administration&#39\;s (SBA) new $28.6 Billion Restaurant Revitalization Fund (RRF)</u> hosted by the Colorado LGBTQ Chamber of Commerce\, National LGBT Chamber of Commerce (NGLCC)\, and Public Private Strategies Institute. The briefing will be hosted this <strong>Friday\, April 30 from 10-11AM ET (7-8AM PT)</strong>. </span><br />\n&nbsp\;<br />\n<span style="font-family:trebuchet ms\,sans-serif\;">We are proud to welcome special guests\, SBA Administrator Isabella Casillas Guzman and SBA Associate Administrator in the Office of Entrepreneurial Development Mark Madrid. The SBA helps small business owners and entrepreneurs pursue the American dream and is the only cabinet-level federal agency fully dedicated to small business and provides counseling\, capital\, and contracting expertise as the nation&rsquo\;s only go-to resource and voice for small businesses.</span><br />\n&nbsp\;<br />\n<span style="font-family:trebuchet ms\,sans-serif\;">President Biden and the SBA are launching the RRF to ensure restaurants get the help they need. In the American Rescue Plan Act\, signed into law on March 11\, 2021\, Congress appropriated $28.6 Billion for the SBA to award relief through the RRF Program until funds are expended. Fund recipients are not required to repay the funding as long as the funds are used for eligible purposes no later than March 11\, 2023. <span style="color:black\;">To learn more about the RRF program and application\, please&nbsp\;</span><span style="color:#0070C0\;"><a href="http://r20.rs6.net/tn.jsp?f=001pKGKFzPHi2qK5K-U-6Frbj36YWhuhoYOxDgqvuB98t5mq6-yT7Myl_OQAnLRKFi-l7zo2tP9XGP1sDGofREf404kh9GY5bt-oeWaA-QBXI7NvAa0f4TUEASGrHfrmlg1ACviWw-9KaGLRBQ-ati9Vp7UzjXsZDrZPui5K-sv00Axr0IRgaqOPPikDvsmuTVemCpIzsThDdrJTYM9V1xh-4uREYpqZ2-KeTITj5VRctRSLjwqnkyKs5l5RwSJxIZ2&amp\;c=hV8hvHon0a6yiSRjaXpd8IWBYC7_NetCIjkh55rTtvOgGFRUQz_EMQ==&amp\;ch=JdfAbTWvOuNfp1mxAtW5laWdXDZKkmutXEyBcF3GWRUrKMJR42Gh_Q==" target="_blank"><span style="color:#0070C0\;">click here</span></a></span><span style="color:black\;">.&nbsp\;</span></span><br />\n&nbsp\;<br />\n<strong><span style="font-family:trebuchet ms\,sans-serif\;">You can register via the attached invitation or at the <a href="https://us02web.zoom.us/webinar/register/WN_1DQBqF7TQUOF92Y4lEFP1g">LINK HERE</a>. </span></strong><br />\n&nbsp\;<br />\n<span style="font-family:trebuchet ms\,sans-serif\;">If you have any questions\, please contact NGLCC at <a href="mailto:SBAcall@nglcc.org">SBAcall@nglcc.org</a>.</span><br />\n&nbsp\;<br />\n<br />\nRegister with NGLCC here &gt\;<a href="https://us02web.zoom.us/webinar/register/WN_1DQBqF7TQUOF92Y4lEFP1g">Webinar Registration - Zoom</a>
LOCATION:Register with NGLCC here Webinar Registration - Zoom
UID:e.2492.5951
SEQUENCE:3
DTSTAMP:20260420T194434Z
URL:https://business.colgbtqcc.org/events/details/special-national-briefing-on-the-u-s-small-businessadministration-s-sba-s-new-28-6-billion-restaurant-revitalization-fund-rrf-5951
END:VEVENT

END:VCALENDAR
