BEGIN:VCALENDAR
VERSION:2.0
PRODID:-//ChamberMaster//Event Calendar 2.0//EN
METHOD:PUBLISH
X-PUBLISHED-TTL:P3D
REFRESH-INTERVAL:P3D
CALSCALE:GREGORIAN
BEGIN:VEVENT
DTSTART:20191123T230000Z
DTEND:20191124T020000Z
X-MICROSOFT-CDO-ALLDAYEVENT:FALSE
SUMMARY:Throwout The Stigma- Transgender & Gender Nonconforming Event
DESCRIPTION:Transgender/Gender Nonconforming Panel Discussion! Guest Panelists Include: State Representative Titone ONE Colorado Out Boulder Transformative Freedom Fund TRUE Center For Gender Diversity Christine Monks TYES And Many More!
X-ALT-DESC;FMTTYPE=text/html:Transgender/Gender Nonconforming Panel Discussion! Guest Panelists Include: State Representative Titone ONE Colorado Out Boulder Transformative Freedom Fund TRUE Center For Gender Diversity Christine Monks TYES And Many More!
LOCATION:Evergreen High School 29300 Buffalo Park Rd Evergreen\, CO 80439
UID:e.2492.5715
SEQUENCE:3
DTSTAMP:20260419T200846Z
URL:https://business.colgbtqcc.org/events/details/throwout-the-stigma-transgender-gender-nonconforming-event-5715
END:VEVENT

END:VCALENDAR
