BEGIN:VCALENDAR
VERSION:2.0
PRODID:-//ChamberMaster//Event Calendar 2.0//EN
METHOD:PUBLISH
X-PUBLISHED-TTL:P3D
REFRESH-INTERVAL:P3D
CALSCALE:GREGORIAN
BEGIN:VEVENT
DTSTART:20200420T210000Z
DTEND:20200420T220000Z
X-MICROSOFT-CDO-ALLDAYEVENT:FALSE
SUMMARY:Understanding Tax & Payroll Considerations In the Time of COVID 19
DESCRIPTION:Please join Adelante\, The Bell Policy Center\, Colorado Black Chamber of Commerce\, Colorado LGBTQ Chamber of Commerce\, Center for Community Wealth Building\, Downtown Grand Junction\, Good Business Colorado\, Latino Chamber of Commerce of Pueblo\, Rocky Mountain Employee Ownership Center\, Sistah Biz Global Network\, and Small Business Majority on Monday\, 4/20 at 3:00 pm for a free discussion and Q&A session with Journey Payroll & HR\, Inc. Due to recent and ongoing legislation in response to COVID-19\, the process of compliance in payroll\, HR\, and payroll tax filing is a challenging undertaking with new considerations. "Laws" and/or "Rules" have changed temporarily and federal and state rules are changing not day-to-day\, but hour-to-hour. Webinar topics include (but are not limited to) the Employee Retention Tax Credit under the CARES Act\, considerations when applying for federal loans\, and payroll reporting needs for specific loan programs. Ashlee Faulker\, Journey's Colorado President\, will guide the discussion and answer your questions in this hour long interactive session. Journey Payroll is a proud Good Business Colorado member and a Colorado-based full-service payroll and tax management company.
X-ALT-DESC;FMTTYPE=text/html:<span style="caret-color: rgb(111\, 114\, 135)\; color: rgb(111\, 114\, 135)\; font-family: &quot\;Neue Plak&quot\;\, -apple-system\, BlinkMacSystemFont\, Roboto\, &quot\;Helvetica Neue&quot\;\, Helvetica\, Tahoma\, Arial\, sans-serif\; font-size: 14.933333396911621px\; letter-spacing: 0.5px\;">Please join Adelante\, The Bell Policy Center\, Colorado Black Chamber of Commerce\, Colorado LGBTQ Chamber of Commerce\, Center for Community Wealth Building\, Downtown Grand Junction\, Good Business Colorado\,&nbsp\;</span><span style="padding-top: 0px\; caret-color: rgb(111\, 114\, 135)\; color: rgb(111\, 114\, 135)\; font-family: &quot\;Neue Plak&quot\;\, -apple-system\, BlinkMacSystemFont\, Roboto\, &quot\;Helvetica Neue&quot\;\, Helvetica\, Tahoma\, Arial\, sans-serif\; font-size: 14.933333396911621px\; letter-spacing: 0.5px\;">Latino Chamber of Commerce of Pueblo\, Rocky Mountain Employee Ownership Center\, Sistah Biz Global Network\,&nbsp\;</span><span style="caret-color: rgb(111\, 114\, 135)\; color: rgb(111\, 114\, 135)\; font-family: &quot\;Neue Plak&quot\;\, -apple-system\, BlinkMacSystemFont\, Roboto\, &quot\;Helvetica Neue&quot\;\, Helvetica\, Tahoma\, Arial\, sans-serif\; font-size: 14.933333396911621px\; letter-spacing: 0.5px\;">and Small Business Majority on&nbsp\;</span><span style="caret-color: rgb(111\, 114\, 135)\; color: rgb(111\, 114\, 135)\; font-family: &quot\;Neue Plak&quot\;\, -apple-system\, BlinkMacSystemFont\, Roboto\, &quot\;Helvetica Neue&quot\;\, Helvetica\, Tahoma\, Arial\, sans-serif\; font-size: 14.933333396911621px\; letter-spacing: 0.5px\;">Monday\, 4/20 at 3:00 pm for a free discussion and Q&amp\;A session with Journey Payroll &amp\; HR\, Inc.&nbsp\;</span><span style="caret-color: rgb(111\, 114\, 135)\; color: rgb(111\, 114\, 135)\; font-family: &quot\;Neue Plak&quot\;\, -apple-system\, BlinkMacSystemFont\, Roboto\, &quot\;Helvetica Neue&quot\;\, Helvetica\, Tahoma\, Arial\, sans-serif\; font-size: 14.933333396911621px\; letter-spacing: 0.5px\;">Due to recent and ongoing legislation in response to COVID-19\, the process of compliance in payroll\, HR\, and payroll tax filing is a challenging undertaking with new considerations. &ldquo\;Laws&rdquo\; and/or &ldquo\;Rules&rdquo\; have changed temporarily and federal and state rules are changing not day-to-day\, but hour-to-hour</span><span style="caret-color: rgb(111\, 114\, 135)\; color: rgb(111\, 114\, 135)\; font-family: &quot\;Neue Plak&quot\;\, -apple-system\, BlinkMacSystemFont\, Roboto\, &quot\;Helvetica Neue&quot\;\, Helvetica\, Tahoma\, Arial\, sans-serif\; font-size: 14.933333396911621px\; letter-spacing: 0.5px\;">. Webinar topics include (but are not limited to) the Employee Retention Tax Credit under the CARES Act\, considerations when applying for federal loans\, and payroll reporting needs for specific loan programs. Ashlee Faulker\, Journey&#39\;s Colorado President\, will guide the discussion and answer your questions in this hour long interactive session.&nbsp\;<span style="padding-top: 0px\;">Journey Payroll is a proud Good Business Colorado member and a Colorado-based full-service payroll and tax management company.</span></span>
LOCATION:
UID:e.2492.5807
SEQUENCE:3
DTSTAMP:20260421T154307Z
URL:https://business.colgbtqcc.org/events/details/understanding-tax-payroll-considerations-in-the-time-of-covid-19-5807
END:VEVENT

END:VCALENDAR
