BEGIN:VCALENDAR
VERSION:2.0
PRODID:-//ChamberMaster//Event Calendar 2.0//EN
METHOD:PUBLISH
X-PUBLISHED-TTL:P3D
REFRESH-INTERVAL:P3D
CALSCALE:GREGORIAN
BEGIN:VEVENT
DTSTART:20200528T233000Z
DTEND:20200529T010000Z
X-MICROSOFT-CDO-ALLDAYEVENT:FALSE
SUMMARY:Virtual Business-After-Hours with Colorado Surrogacy
DESCRIPTION:Be sure to join us and Colorado Surrogacy as they are our main sponsor for this event! They will be showing a 1 minute slideshow/video and will have team members speak for 1-2 minutes on what they do at there facilities and how they could help you in the near future.\n\n \n\nThey will have a quick trivia halfway through and plan on some giveaways to be mailed to participant winners. \n\n\n\nWe look forward to seeing you all virtually!
X-ALT-DESC;FMTTYPE=text/html:<p style="margin: 0px\; padding: 0px 0px 10px\; border: 0px\; outline: 0px\; font-size: 16px\; vertical-align: baseline\; line-height: 26px\; color: rgb(135\, 135\, 135)\; font-family: &quot\;Droid Sans&quot\;\, Helvetica\, Arial\, Lucida\, sans-serif\;"><span style="color:#000000\;"><span style="font-size:14px\;"><span style="font-family:times new roman\;">Be sure to join us and Colorado Surrogacy as they are&nbsp\;our main sponsor for this event! They&nbsp\;will be showing a 1 minute slideshow/video and will have&nbsp\;team members speak for 1-2 minutes on&nbsp\;what they do at there facilities&nbsp\;and how they could help you in the near future.</span></span></span></p>\n\n<div style="caret-color: rgb(0\, 0\, 0)\; color: rgb(0\, 0\, 0)\;">&nbsp\;</div>\n\n<div style="caret-color: rgb(0\, 0\, 0)\; color: rgb(0\, 0\, 0)\;"><span style="color:#000000\;"><span style="font-size:14px\;"><span style="font-family:times new roman\;">They will have a quick trivia halfway through and plan on some giveaways&nbsp\;to be mailed to participant winners.&nbsp\;<br />\n<br />\nWe look forward to seeing you all virtually!</span></span></span></div>\n
LOCATION:Virtual Event on Zoom. To join this meeting please call Zoom id 720-900-4522
UID:e.2492.3657
SEQUENCE:3
DTSTAMP:20260421T141810Z
URL:https://business.colgbtqcc.org/events/details/virtual-business-after-hours-with-colorado-surrogacy-3657
END:VEVENT

END:VCALENDAR
