BEGIN:VCALENDAR
VERSION:2.0
PRODID:-//ChamberMaster//Event Calendar 2.0//EN
METHOD:PUBLISH
X-PUBLISHED-TTL:P3D
REFRESH-INTERVAL:P3D
CALSCALE:GREGORIAN
BEGIN:VEVENT
DTSTART:20210129T003000Z
DTEND:20210129T030000Z
X-MICROSOFT-CDO-ALLDAYEVENT:FALSE
SUMMARY:Virtual Business-After-Hours with Mountain Man Nut & Fruit Co.
DESCRIPTION:Mountain Man has been a family owned Colorado company since 1977.  All the route drives and stores are independently owned as franchises.  The store itself has been open for 21 years and owned by Curtis and his mother for almost 8 years.\n\n\n\n Since they've been open\, they have acquired two other businesses.  The first one is called Basket World which is a wholesale gift basket supply company.  The second one is called Colorado Gift Baskets which is an e-commerce gift basket company that specializes in only Colorado product inside the gift baskets.  They run all three businesses from our one location.\n\n \n\nThey make gift baskets for literally any occasion.  Birthdays\, holidays\, condolences\, get well soon\, newborn....you name it\, they make it!\n\n \n\nIf anyone of our chamber members would like to shop in store on Thursday or place orders with ( Curtis)  on the zoom call\, I'd be more than happy to give them a 20% discount which is what  they give to all  friends and family.
X-ALT-DESC;FMTTYPE=text/html:<div dir="auto" style="caret-color: rgb(0\, 0\, 0)\; color: rgb(0\, 0\, 0)\;">Mountain Man has been a family owned Colorado company since 1977.&nbsp\; All the route drives and stores are independently owned as franchises. &nbsp\;The&nbsp\;store itself has been open for 21 years and owned by Curtis and his mother for&nbsp\;almost 8 years.<br />\n<br />\n&nbsp\;Since they&#39\;ve&nbsp\;been open\, they have&nbsp\;acquired two other businesses.&nbsp\; The first one is called Basket World which is a wholesale gift basket supply company.&nbsp\; The second one is called Colorado Gift Baskets which is an e-commerce gift basket company that specializes in only Colorado product inside the gift baskets. &nbsp\;They&nbsp\;run all three businesses from our one location.</div>\n\n<div dir="auto" style="caret-color: rgb(0\, 0\, 0)\; color: rgb(0\, 0\, 0)\;">&nbsp\;</div>\n\n<div dir="auto" style="caret-color: rgb(0\, 0\, 0)\; color: rgb(0\, 0\, 0)\;">They&nbsp\;make gift baskets for literally any occasion.&nbsp\; Birthdays\, holidays\, condolences\, get well soon\, newborn....you name it\, they&nbsp\;make it!</div>\n\n<div dir="auto" style="caret-color: rgb(0\, 0\, 0)\; color: rgb(0\, 0\, 0)\;">&nbsp\;</div>\n\n<div dir="auto" style="caret-color: rgb(0\, 0\, 0)\; color: rgb(0\, 0\, 0)\;">If anyone of our chamber members would like to shop in store on Thursday or place orders with ( Curtis)&nbsp\;&nbsp\;on the zoom call\, I&rsquo\;d be more than happy to give them a 20% discount which is what &nbsp\;they&nbsp\;give to all &nbsp\;friends and family.</div>\n\n<p style="margin: 0px\; padding: 0px 0px 10px\; border: 0px\; outline: 0px\; font-size: 16px\; vertical-align: baseline\; line-height: 26px\; color: rgb(135\, 135\, 135)\; font-family: 'Droid Sans'\, Helvetica\, Arial\, Lucida\, sans-serif\; background-image: initial\; background-attachment: initial\; background-size: initial\; background-origin: initial\; background-clip: initial\; background-position: initial\; background-repeat: initial\;">&nbsp\;</p>\n
LOCATION:Colorado LGBTQ Chamber is inviting you to a scheduled Zoom meeting. Topic: Colorado LGBTQ Chamber's Zoom Meeting Bussiness After Hours Time: Jan 28\, 2021 05:30 PM Mountain Time (US and Canada) Join Zoom Meeting https://zoom.us/j/7209004522 Meeting ID: 720 900 4522 One tap mobile +16699006833\,\,7209004522# US (San Jose) +12532158782\,\,7209004522# US (Tacoma) Dial by your location +1 669 900 6833 US (San Jose) +1 253 215 8782 US (Tacoma) +1 346 248 7799 US (Houston) +1 929 205 6099 US (New York) +1 301 715 8592 US (Washington DC) +1 312 626 6799 US (Chicago) Meeting ID: 720 900 4522 Find your local number: https://zoom.us/u/abU8e9kEm4
UID:e.2492.3665
SEQUENCE:3
DTSTAMP:20260421T022810Z
URL:https://business.colgbtqcc.org/events/details/virtual-business-after-hours-with-mountain-man-nut-fruit-co-3665
END:VEVENT

END:VCALENDAR
