BEGIN:VCALENDAR
VERSION:2.0
PRODID:-//ChamberMaster//Event Calendar 2.0//EN
METHOD:PUBLISH
X-PUBLISHED-TTL:P3D
REFRESH-INTERVAL:P3D
CALSCALE:GREGORIAN
BEGIN:VEVENT
DTSTART:20200518T230000Z
DTEND:20200519T000000Z
X-MICROSOFT-CDO-ALLDAYEVENT:FALSE
SUMMARY:Virtual Health Month - Atlas Chiropractic
DESCRIPTION:To enter meeting download zoom and dial zoom id 720-900-4522\n\n\n\nAt Las Chiropractic with Alison Bermer-  How do deal with headaches and neck pain\, proper work positioning to avoid work issues.
X-ALT-DESC;FMTTYPE=text/html:To enter meeting download zoom and dial zoom id 720-900-4522<br />\n<br />\nAt Las Chiropractic with Alison Bermer- &nbsp\;How do deal with headaches and neck pain\, proper work positioning to avoid work issues.&nbsp\;<br />\n
LOCATION:Zoomlive
UID:e.2492.5800
SEQUENCE:3
DTSTAMP:20260421T141821Z
URL:https://business.colgbtqcc.org/events/details/virtual-health-month-atlas-chiropractic-5800
END:VEVENT

END:VCALENDAR
