BEGIN:VCALENDAR
VERSION:2.0
PRODID:-//ChamberMaster//Event Calendar 2.0//EN
METHOD:PUBLISH
X-PUBLISHED-TTL:P3D
REFRESH-INTERVAL:P3D
CALSCALE:GREGORIAN
BEGIN:VEVENT
DTSTART:20200511T230000Z
DTEND:20200512T000000Z
X-MICROSOFT-CDO-ALLDAYEVENT:FALSE
SUMMARY:Virtual Health Month - Dream Maker
DESCRIPTION:Dream Makers with Zailyn Prada- Mental Health Talk on hot to deal with stress and Anxiety returning to the work environment form COVID19. \n\n\n\nTo enter meeting download zoom and dial zoom id 720-900-4522
X-ALT-DESC;FMTTYPE=text/html:Dream Makers with Zailyn Prada- Mental Health Talk on hot to deal with stress and Anxiety returning to the work environment form COVID19.&nbsp\;<br />\n<br />\nTo enter meeting download zoom and dial zoom id 720-900-4522
LOCATION:
UID:e.2492.5799
SEQUENCE:3
DTSTAMP:20260421T141431Z
URL:https://business.colgbtqcc.org/events/details/virtual-health-month-dream-maker-5799
END:VEVENT

END:VCALENDAR
