BEGIN:VCALENDAR
VERSION:2.0
PRODID:-//ChamberMaster//Event Calendar 2.0//EN
METHOD:PUBLISH
X-PUBLISHED-TTL:P3D
REFRESH-INTERVAL:P3D
CALSCALE:GREGORIAN
BEGIN:VEVENT
DTSTART:20200530T180000Z
DTEND:20200530T190000Z
X-MICROSOFT-CDO-ALLDAYEVENT:FALSE
SUMMARY:Virtual Health Month - Endorphin - Barre
DESCRIPTION:Barre fitness is a hybrid workout class - combining ballet-inspired moves with elements of Pilates\, dance\, yoga and strength training. Most classes incorporate a ballet barre and use classic dance moves such as plies\, alongside static stretches. Barre also focuses on high reps of small range movements.
X-ALT-DESC;FMTTYPE=text/html:Barre fitness is a hybrid workout class - combining ballet-inspired moves with elements of Pilates\, dance\, yoga and strength training. Most classes incorporate a ballet barre and use classic dance moves such as plies\, alongside static stretches. Barre also focuses on high reps of small range movements.
LOCATION:Zoom Live please login into: https://zoom.us/j/7032014234
UID:e.2492.5805
SEQUENCE:3
DTSTAMP:20260421T142807Z
URL:https://business.colgbtqcc.org/events/details/virtual-health-month-endorphin-barre-5805
END:VEVENT

END:VCALENDAR
