BEGIN:VCALENDAR
VERSION:2.0
PRODID:-//ChamberMaster//Event Calendar 2.0//EN
METHOD:PUBLISH
X-PUBLISHED-TTL:P3D
REFRESH-INTERVAL:P3D
CALSCALE:GREGORIAN
BEGIN:VEVENT
DTSTART:20200516T180000Z
DTEND:20200516T190000Z
X-MICROSOFT-CDO-ALLDAYEVENT:FALSE
SUMMARY:Virtual Health Month - Endorphin - Bootcamp
DESCRIPTION:Boot camp workouts can vary. They generally include a fairly intense mix of aerobic\, strength training and speed elements within each class session. ... A boot camp workout is essentially a type of interval training ? bursts of intense activity alternated with intervals of lighter activity.
X-ALT-DESC;FMTTYPE=text/html:Boot camp workouts can vary. They generally include a fairly intense mix of aerobic\, strength training and speed elements within each class session. ... A boot camp workout is essentially a type of interval training ? bursts of intense activity alternated with intervals of lighter activity.
LOCATION:Zoom login is: 9767486729. Passcode will be emailed for meeting will be emailed
UID:e.2492.5804
SEQUENCE:3
DTSTAMP:20260421T141524Z
URL:https://business.colgbtqcc.org/events/details/virtual-health-month-endorphin-bootcamp-5804
END:VEVENT

END:VCALENDAR
