BEGIN:VCALENDAR
VERSION:2.0
PRODID:-//ChamberMaster//Event Calendar 2.0//EN
METHOD:PUBLISH
X-PUBLISHED-TTL:P3D
REFRESH-INTERVAL:P3D
CALSCALE:GREGORIAN
BEGIN:VEVENT
DTSTART:20200502T180000Z
DTEND:20200502T190000Z
X-MICROSOFT-CDO-ALLDAYEVENT:FALSE
SUMMARY:Virtual Health Month - Endorphin - Yoga
DESCRIPTION:Yoga is a gentle way to improve your posture\, balance\, and coordination. Yoga is a systematic practice of physical exercise\, breath control\, relaxation\, diet control\, and positive thinking and meditation aimed at developing harmony in the body\, mind\, and environment.
X-ALT-DESC;FMTTYPE=text/html:Yoga is a gentle way to improve your posture\, balance\, and coordination. Yoga is a systematic practice of physical exercise\, breath control\, relaxation\, diet control\, and positive thinking and meditation aimed at developing harmony in the body\, mind\, and environment.<br />\n<br />\n<br />\n
LOCATION:To join in on this event Download the zoom app on your phone of laptop and login into zoom room: 7032014234 https://zoom.us/j/7032014234
UID:e.2492.5802
SEQUENCE:3
DTSTAMP:20260421T141821Z
URL:https://business.colgbtqcc.org/events/details/virtual-health-month-endorphin-yoga-5802
END:VEVENT

END:VCALENDAR
