BEGIN:VCALENDAR
VERSION:2.0
PRODID:-//ChamberMaster//Event Calendar 2.0//EN
METHOD:PUBLISH
X-PUBLISHED-TTL:P3D
REFRESH-INTERVAL:P3D
CALSCALE:GREGORIAN
BEGIN:VEVENT
DTSTART:20200504T230000Z
DTEND:20200505T000000Z
X-MICROSOFT-CDO-ALLDAYEVENT:FALSE
SUMMARY:Virtual Health Month - Fair Wealth Wellness
DESCRIPTION:To enter meeting download zoom and dial zoom id 720-900-4522
X-ALT-DESC;FMTTYPE=text/html:To enter meeting download zoom and dial zoom id 720-900-4522
LOCATION:
UID:e.2492.5798
SEQUENCE:3
DTSTAMP:20260421T153742Z
URL:https://business.colgbtqcc.org/events/details/virtual-health-month-fair-wealth-wellness-5798
END:VEVENT

END:VCALENDAR
